BEGIN:VCALENDAR
VERSION:2.0
PRODID:-//Cold Spring Church - ECPv6.15.20//NONSGML v1.0//EN
CALSCALE:GREGORIAN
METHOD:PUBLISH
X-ORIGINAL-URL:https://coldspringchurch.com
X-WR-CALDESC:Events for Cold Spring Church
REFRESH-INTERVAL;VALUE=DURATION:PT1H
X-Robots-Tag:noindex
X-PUBLISHED-TTL:PT1H
BEGIN:VTIMEZONE
TZID:America/New_York
BEGIN:DAYLIGHT
TZOFFSETFROM:-0500
TZOFFSETTO:-0400
TZNAME:EDT
DTSTART:20250309T070000
END:DAYLIGHT
BEGIN:STANDARD
TZOFFSETFROM:-0400
TZOFFSETTO:-0500
TZNAME:EST
DTSTART:20251102T060000
END:STANDARD
BEGIN:DAYLIGHT
TZOFFSETFROM:-0500
TZOFFSETTO:-0400
TZNAME:EDT
DTSTART:20260308T070000
END:DAYLIGHT
BEGIN:STANDARD
TZOFFSETFROM:-0400
TZOFFSETTO:-0500
TZNAME:EST
DTSTART:20261101T060000
END:STANDARD
BEGIN:DAYLIGHT
TZOFFSETFROM:-0500
TZOFFSETTO:-0400
TZNAME:EDT
DTSTART:20270314T070000
END:DAYLIGHT
BEGIN:STANDARD
TZOFFSETFROM:-0400
TZOFFSETTO:-0500
TZNAME:EST
DTSTART:20271107T060000
END:STANDARD
BEGIN:DAYLIGHT
TZOFFSETFROM:-0500
TZOFFSETTO:-0400
TZNAME:EDT
DTSTART:20280312T070000
END:DAYLIGHT
BEGIN:STANDARD
TZOFFSETFROM:-0400
TZOFFSETTO:-0500
TZNAME:EST
DTSTART:20281105T060000
END:STANDARD
END:VTIMEZONE
BEGIN:VEVENT
DTSTART;TZID=America/New_York:20260512T170000
DTEND;TZID=America/New_York:20260512T190000
DTSTAMP:20260419T131009
CREATED:20250428T170920Z
LAST-MODIFIED:20250428T170947Z
UID:10015133-1778605200-1778612400@coldspringchurch.com
SUMMARY:Session Meeting
DESCRIPTION:
URL:https://coldspringchurch.com/event/session-meeting-53/2026-05-12/
LOCATION:Taylor Room\, Price Hall\, Seashore and Academy Rd\, Seashore at Academy Roads\, Cold Spring\, NJ\, 08224
GEO:38.9735189;-74.9171684
X-APPLE-STRUCTURED-LOCATION;VALUE=URI;X-ADDRESS=Taylor Room Price Hall Seashore and Academy Rd Seashore at Academy Roads Cold Spring NJ 08224;X-APPLE-RADIUS=500;X-TITLE=Seashore at Academy Roads:geo:-74.9171684,38.9735189
END:VEVENT
BEGIN:VEVENT
DTSTART;TZID=America/New_York:20260602T193000
DTEND;TZID=America/New_York:20260602T203000
DTSTAMP:20260419T131009
CREATED:20260324T164837Z
LAST-MODIFIED:20260326T151544Z
UID:10016270-1780428600-1780432200@coldspringchurch.com
SUMMARY:AL Anon meeting
DESCRIPTION:
URL:https://coldspringchurch.com/event/al-anon-meeting/2026-06-02/
LOCATION:Taylor Room\, Price Hall\, Seashore and Academy Rd\, Seashore at Academy Roads\, Cold Spring\, NJ\, 08224
CATEGORIES:Events
GEO:38.9735189;-74.9171684
X-APPLE-STRUCTURED-LOCATION;VALUE=URI;X-ADDRESS=Taylor Room Price Hall Seashore and Academy Rd Seashore at Academy Roads Cold Spring NJ 08224;X-APPLE-RADIUS=500;X-TITLE=Seashore at Academy Roads:geo:-74.9171684,38.9735189
END:VEVENT
BEGIN:VEVENT
DTSTART;TZID=America/New_York:20260609T170000
DTEND;TZID=America/New_York:20260609T190000
DTSTAMP:20260419T131009
CREATED:20250428T170920Z
LAST-MODIFIED:20250428T170947Z
UID:10015134-1781024400-1781031600@coldspringchurch.com
SUMMARY:Session Meeting
DESCRIPTION:
URL:https://coldspringchurch.com/event/session-meeting-53/2026-06-09/
LOCATION:Taylor Room\, Price Hall\, Seashore and Academy Rd\, Seashore at Academy Roads\, Cold Spring\, NJ\, 08224
GEO:38.9735189;-74.9171684
X-APPLE-STRUCTURED-LOCATION;VALUE=URI;X-ADDRESS=Taylor Room Price Hall Seashore and Academy Rd Seashore at Academy Roads Cold Spring NJ 08224;X-APPLE-RADIUS=500;X-TITLE=Seashore at Academy Roads:geo:-74.9171684,38.9735189
END:VEVENT
BEGIN:VEVENT
DTSTART;TZID=America/New_York:20260609T193000
DTEND;TZID=America/New_York:20260609T203000
DTSTAMP:20260419T131009
CREATED:20260324T164837Z
LAST-MODIFIED:20260326T151544Z
UID:10016271-1781033400-1781037000@coldspringchurch.com
SUMMARY:AL Anon meeting
DESCRIPTION:
URL:https://coldspringchurch.com/event/al-anon-meeting/2026-06-09/
LOCATION:Taylor Room\, Price Hall\, Seashore and Academy Rd\, Seashore at Academy Roads\, Cold Spring\, NJ\, 08224
CATEGORIES:Events
GEO:38.9735189;-74.9171684
X-APPLE-STRUCTURED-LOCATION;VALUE=URI;X-ADDRESS=Taylor Room Price Hall Seashore and Academy Rd Seashore at Academy Roads Cold Spring NJ 08224;X-APPLE-RADIUS=500;X-TITLE=Seashore at Academy Roads:geo:-74.9171684,38.9735189
END:VEVENT
BEGIN:VEVENT
DTSTART;TZID=America/New_York:20260616T193000
DTEND;TZID=America/New_York:20260616T203000
DTSTAMP:20260419T131009
CREATED:20260324T164837Z
LAST-MODIFIED:20260326T151544Z
UID:10016272-1781638200-1781641800@coldspringchurch.com
SUMMARY:AL Anon meeting
DESCRIPTION:
URL:https://coldspringchurch.com/event/al-anon-meeting/2026-06-16/
LOCATION:Taylor Room\, Price Hall\, Seashore and Academy Rd\, Seashore at Academy Roads\, Cold Spring\, NJ\, 08224
CATEGORIES:Events
GEO:38.9735189;-74.9171684
X-APPLE-STRUCTURED-LOCATION;VALUE=URI;X-ADDRESS=Taylor Room Price Hall Seashore and Academy Rd Seashore at Academy Roads Cold Spring NJ 08224;X-APPLE-RADIUS=500;X-TITLE=Seashore at Academy Roads:geo:-74.9171684,38.9735189
END:VEVENT
BEGIN:VEVENT
DTSTART;TZID=America/New_York:20260623T193000
DTEND;TZID=America/New_York:20260623T203000
DTSTAMP:20260419T131009
CREATED:20260324T164837Z
LAST-MODIFIED:20260326T151544Z
UID:10016273-1782243000-1782246600@coldspringchurch.com
SUMMARY:AL Anon meeting
DESCRIPTION:
URL:https://coldspringchurch.com/event/al-anon-meeting/2026-06-23/
LOCATION:Taylor Room\, Price Hall\, Seashore and Academy Rd\, Seashore at Academy Roads\, Cold Spring\, NJ\, 08224
CATEGORIES:Events
GEO:38.9735189;-74.9171684
X-APPLE-STRUCTURED-LOCATION;VALUE=URI;X-ADDRESS=Taylor Room Price Hall Seashore and Academy Rd Seashore at Academy Roads Cold Spring NJ 08224;X-APPLE-RADIUS=500;X-TITLE=Seashore at Academy Roads:geo:-74.9171684,38.9735189
END:VEVENT
BEGIN:VEVENT
DTSTART;TZID=America/New_York:20260630T193000
DTEND;TZID=America/New_York:20260630T203000
DTSTAMP:20260419T131009
CREATED:20260324T164837Z
LAST-MODIFIED:20260326T151544Z
UID:10016274-1782847800-1782851400@coldspringchurch.com
SUMMARY:AL Anon meeting
DESCRIPTION:
URL:https://coldspringchurch.com/event/al-anon-meeting/2026-06-30/
LOCATION:Taylor Room\, Price Hall\, Seashore and Academy Rd\, Seashore at Academy Roads\, Cold Spring\, NJ\, 08224
CATEGORIES:Events
GEO:38.9735189;-74.9171684
X-APPLE-STRUCTURED-LOCATION;VALUE=URI;X-ADDRESS=Taylor Room Price Hall Seashore and Academy Rd Seashore at Academy Roads Cold Spring NJ 08224;X-APPLE-RADIUS=500;X-TITLE=Seashore at Academy Roads:geo:-74.9171684,38.9735189
END:VEVENT
BEGIN:VEVENT
DTSTART;TZID=America/New_York:20260707T193000
DTEND;TZID=America/New_York:20260707T203000
DTSTAMP:20260419T131009
CREATED:20260324T164837Z
LAST-MODIFIED:20260326T151544Z
UID:10016275-1783452600-1783456200@coldspringchurch.com
SUMMARY:AL Anon meeting
DESCRIPTION:
URL:https://coldspringchurch.com/event/al-anon-meeting/2026-07-07/
LOCATION:Taylor Room\, Price Hall\, Seashore and Academy Rd\, Seashore at Academy Roads\, Cold Spring\, NJ\, 08224
CATEGORIES:Events
GEO:38.9735189;-74.9171684
X-APPLE-STRUCTURED-LOCATION;VALUE=URI;X-ADDRESS=Taylor Room Price Hall Seashore and Academy Rd Seashore at Academy Roads Cold Spring NJ 08224;X-APPLE-RADIUS=500;X-TITLE=Seashore at Academy Roads:geo:-74.9171684,38.9735189
END:VEVENT
BEGIN:VEVENT
DTSTART;TZID=America/New_York:20260714T170000
DTEND;TZID=America/New_York:20260714T190000
DTSTAMP:20260419T131009
CREATED:20250428T170920Z
LAST-MODIFIED:20250428T170947Z
UID:10015135-1784048400-1784055600@coldspringchurch.com
SUMMARY:Session Meeting
DESCRIPTION:
URL:https://coldspringchurch.com/event/session-meeting-53/2026-07-14/
LOCATION:Taylor Room\, Price Hall\, Seashore and Academy Rd\, Seashore at Academy Roads\, Cold Spring\, NJ\, 08224
GEO:38.9735189;-74.9171684
X-APPLE-STRUCTURED-LOCATION;VALUE=URI;X-ADDRESS=Taylor Room Price Hall Seashore and Academy Rd Seashore at Academy Roads Cold Spring NJ 08224;X-APPLE-RADIUS=500;X-TITLE=Seashore at Academy Roads:geo:-74.9171684,38.9735189
END:VEVENT
BEGIN:VEVENT
DTSTART;TZID=America/New_York:20260714T193000
DTEND;TZID=America/New_York:20260714T203000
DTSTAMP:20260419T131009
CREATED:20260324T164837Z
LAST-MODIFIED:20260326T151544Z
UID:10016276-1784057400-1784061000@coldspringchurch.com
SUMMARY:AL Anon meeting
DESCRIPTION:
URL:https://coldspringchurch.com/event/al-anon-meeting/2026-07-14/
LOCATION:Taylor Room\, Price Hall\, Seashore and Academy Rd\, Seashore at Academy Roads\, Cold Spring\, NJ\, 08224
CATEGORIES:Events
GEO:38.9735189;-74.9171684
X-APPLE-STRUCTURED-LOCATION;VALUE=URI;X-ADDRESS=Taylor Room Price Hall Seashore and Academy Rd Seashore at Academy Roads Cold Spring NJ 08224;X-APPLE-RADIUS=500;X-TITLE=Seashore at Academy Roads:geo:-74.9171684,38.9735189
END:VEVENT
BEGIN:VEVENT
DTSTART;TZID=America/New_York:20260721T193000
DTEND;TZID=America/New_York:20260721T203000
DTSTAMP:20260419T131009
CREATED:20260324T164837Z
LAST-MODIFIED:20260326T151544Z
UID:10016277-1784662200-1784665800@coldspringchurch.com
SUMMARY:AL Anon meeting
DESCRIPTION:
URL:https://coldspringchurch.com/event/al-anon-meeting/2026-07-21/
LOCATION:Taylor Room\, Price Hall\, Seashore and Academy Rd\, Seashore at Academy Roads\, Cold Spring\, NJ\, 08224
CATEGORIES:Events
GEO:38.9735189;-74.9171684
X-APPLE-STRUCTURED-LOCATION;VALUE=URI;X-ADDRESS=Taylor Room Price Hall Seashore and Academy Rd Seashore at Academy Roads Cold Spring NJ 08224;X-APPLE-RADIUS=500;X-TITLE=Seashore at Academy Roads:geo:-74.9171684,38.9735189
END:VEVENT
BEGIN:VEVENT
DTSTART;TZID=America/New_York:20260728T193000
DTEND;TZID=America/New_York:20260728T203000
DTSTAMP:20260419T131009
CREATED:20260324T164837Z
LAST-MODIFIED:20260326T151544Z
UID:10016278-1785267000-1785270600@coldspringchurch.com
SUMMARY:AL Anon meeting
DESCRIPTION:
URL:https://coldspringchurch.com/event/al-anon-meeting/2026-07-28/
LOCATION:Taylor Room\, Price Hall\, Seashore and Academy Rd\, Seashore at Academy Roads\, Cold Spring\, NJ\, 08224
CATEGORIES:Events
GEO:38.9735189;-74.9171684
X-APPLE-STRUCTURED-LOCATION;VALUE=URI;X-ADDRESS=Taylor Room Price Hall Seashore and Academy Rd Seashore at Academy Roads Cold Spring NJ 08224;X-APPLE-RADIUS=500;X-TITLE=Seashore at Academy Roads:geo:-74.9171684,38.9735189
END:VEVENT
BEGIN:VEVENT
DTSTART;TZID=America/New_York:20260804T193000
DTEND;TZID=America/New_York:20260804T203000
DTSTAMP:20260419T131009
CREATED:20260324T164837Z
LAST-MODIFIED:20260326T151544Z
UID:10016279-1785871800-1785875400@coldspringchurch.com
SUMMARY:AL Anon meeting
DESCRIPTION:
URL:https://coldspringchurch.com/event/al-anon-meeting/2026-08-04/
LOCATION:Taylor Room\, Price Hall\, Seashore and Academy Rd\, Seashore at Academy Roads\, Cold Spring\, NJ\, 08224
CATEGORIES:Events
GEO:38.9735189;-74.9171684
X-APPLE-STRUCTURED-LOCATION;VALUE=URI;X-ADDRESS=Taylor Room Price Hall Seashore and Academy Rd Seashore at Academy Roads Cold Spring NJ 08224;X-APPLE-RADIUS=500;X-TITLE=Seashore at Academy Roads:geo:-74.9171684,38.9735189
END:VEVENT
BEGIN:VEVENT
DTSTART;TZID=America/New_York:20260811T170000
DTEND;TZID=America/New_York:20260811T190000
DTSTAMP:20260419T131009
CREATED:20250428T170920Z
LAST-MODIFIED:20250428T170947Z
UID:10015136-1786467600-1786474800@coldspringchurch.com
SUMMARY:Session Meeting
DESCRIPTION:
URL:https://coldspringchurch.com/event/session-meeting-53/2026-08-11/
LOCATION:Taylor Room\, Price Hall\, Seashore and Academy Rd\, Seashore at Academy Roads\, Cold Spring\, NJ\, 08224
GEO:38.9735189;-74.9171684
X-APPLE-STRUCTURED-LOCATION;VALUE=URI;X-ADDRESS=Taylor Room Price Hall Seashore and Academy Rd Seashore at Academy Roads Cold Spring NJ 08224;X-APPLE-RADIUS=500;X-TITLE=Seashore at Academy Roads:geo:-74.9171684,38.9735189
END:VEVENT
BEGIN:VEVENT
DTSTART;TZID=America/New_York:20260811T193000
DTEND;TZID=America/New_York:20260811T203000
DTSTAMP:20260419T131009
CREATED:20260324T164837Z
LAST-MODIFIED:20260326T151544Z
UID:10016280-1786476600-1786480200@coldspringchurch.com
SUMMARY:AL Anon meeting
DESCRIPTION:
URL:https://coldspringchurch.com/event/al-anon-meeting/2026-08-11/
LOCATION:Taylor Room\, Price Hall\, Seashore and Academy Rd\, Seashore at Academy Roads\, Cold Spring\, NJ\, 08224
CATEGORIES:Events
GEO:38.9735189;-74.9171684
X-APPLE-STRUCTURED-LOCATION;VALUE=URI;X-ADDRESS=Taylor Room Price Hall Seashore and Academy Rd Seashore at Academy Roads Cold Spring NJ 08224;X-APPLE-RADIUS=500;X-TITLE=Seashore at Academy Roads:geo:-74.9171684,38.9735189
END:VEVENT
BEGIN:VEVENT
DTSTART;TZID=America/New_York:20260818T193000
DTEND;TZID=America/New_York:20260818T203000
DTSTAMP:20260419T131009
CREATED:20260324T164837Z
LAST-MODIFIED:20260326T151544Z
UID:10016281-1787081400-1787085000@coldspringchurch.com
SUMMARY:AL Anon meeting
DESCRIPTION:
URL:https://coldspringchurch.com/event/al-anon-meeting/2026-08-18/
LOCATION:Taylor Room\, Price Hall\, Seashore and Academy Rd\, Seashore at Academy Roads\, Cold Spring\, NJ\, 08224
CATEGORIES:Events
GEO:38.9735189;-74.9171684
X-APPLE-STRUCTURED-LOCATION;VALUE=URI;X-ADDRESS=Taylor Room Price Hall Seashore and Academy Rd Seashore at Academy Roads Cold Spring NJ 08224;X-APPLE-RADIUS=500;X-TITLE=Seashore at Academy Roads:geo:-74.9171684,38.9735189
END:VEVENT
BEGIN:VEVENT
DTSTART;TZID=America/New_York:20260825T193000
DTEND;TZID=America/New_York:20260825T203000
DTSTAMP:20260419T131009
CREATED:20260324T164837Z
LAST-MODIFIED:20260326T151544Z
UID:10016282-1787686200-1787689800@coldspringchurch.com
SUMMARY:AL Anon meeting
DESCRIPTION:
URL:https://coldspringchurch.com/event/al-anon-meeting/2026-08-25/
LOCATION:Taylor Room\, Price Hall\, Seashore and Academy Rd\, Seashore at Academy Roads\, Cold Spring\, NJ\, 08224
CATEGORIES:Events
GEO:38.9735189;-74.9171684
X-APPLE-STRUCTURED-LOCATION;VALUE=URI;X-ADDRESS=Taylor Room Price Hall Seashore and Academy Rd Seashore at Academy Roads Cold Spring NJ 08224;X-APPLE-RADIUS=500;X-TITLE=Seashore at Academy Roads:geo:-74.9171684,38.9735189
END:VEVENT
BEGIN:VEVENT
DTSTART;TZID=America/New_York:20260908T170000
DTEND;TZID=America/New_York:20260908T190000
DTSTAMP:20260419T131009
CREATED:20250428T170920Z
LAST-MODIFIED:20250428T170947Z
UID:10015137-1788886800-1788894000@coldspringchurch.com
SUMMARY:Session Meeting
DESCRIPTION:
URL:https://coldspringchurch.com/event/session-meeting-53/2026-09-08/
LOCATION:Taylor Room\, Price Hall\, Seashore and Academy Rd\, Seashore at Academy Roads\, Cold Spring\, NJ\, 08224
GEO:38.9735189;-74.9171684
X-APPLE-STRUCTURED-LOCATION;VALUE=URI;X-ADDRESS=Taylor Room Price Hall Seashore and Academy Rd Seashore at Academy Roads Cold Spring NJ 08224;X-APPLE-RADIUS=500;X-TITLE=Seashore at Academy Roads:geo:-74.9171684,38.9735189
END:VEVENT
BEGIN:VEVENT
DTSTART;TZID=America/New_York:20261013T170000
DTEND;TZID=America/New_York:20261013T190000
DTSTAMP:20260419T131009
CREATED:20250428T170920Z
LAST-MODIFIED:20250428T170947Z
UID:10015138-1791910800-1791918000@coldspringchurch.com
SUMMARY:Session Meeting
DESCRIPTION:
URL:https://coldspringchurch.com/event/session-meeting-53/2026-10-13/
LOCATION:Taylor Room\, Price Hall\, Seashore and Academy Rd\, Seashore at Academy Roads\, Cold Spring\, NJ\, 08224
GEO:38.9735189;-74.9171684
X-APPLE-STRUCTURED-LOCATION;VALUE=URI;X-ADDRESS=Taylor Room Price Hall Seashore and Academy Rd Seashore at Academy Roads Cold Spring NJ 08224;X-APPLE-RADIUS=500;X-TITLE=Seashore at Academy Roads:geo:-74.9171684,38.9735189
END:VEVENT
BEGIN:VEVENT
DTSTART;TZID=America/New_York:20261110T170000
DTEND;TZID=America/New_York:20261110T190000
DTSTAMP:20260419T131009
CREATED:20250428T170920Z
LAST-MODIFIED:20250428T170947Z
UID:10015139-1794330000-1794337200@coldspringchurch.com
SUMMARY:Session Meeting
DESCRIPTION:
URL:https://coldspringchurch.com/event/session-meeting-53/2026-11-10/
LOCATION:Taylor Room\, Price Hall\, Seashore and Academy Rd\, Seashore at Academy Roads\, Cold Spring\, NJ\, 08224
GEO:38.9735189;-74.9171684
X-APPLE-STRUCTURED-LOCATION;VALUE=URI;X-ADDRESS=Taylor Room Price Hall Seashore and Academy Rd Seashore at Academy Roads Cold Spring NJ 08224;X-APPLE-RADIUS=500;X-TITLE=Seashore at Academy Roads:geo:-74.9171684,38.9735189
END:VEVENT
BEGIN:VEVENT
DTSTART;TZID=America/New_York:20261208T170000
DTEND;TZID=America/New_York:20261208T190000
DTSTAMP:20260419T131009
CREATED:20250428T170920Z
LAST-MODIFIED:20250428T170947Z
UID:10015140-1796749200-1796756400@coldspringchurch.com
SUMMARY:Session Meeting
DESCRIPTION:
URL:https://coldspringchurch.com/event/session-meeting-53/2026-12-08/
LOCATION:Taylor Room\, Price Hall\, Seashore and Academy Rd\, Seashore at Academy Roads\, Cold Spring\, NJ\, 08224
GEO:38.9735189;-74.9171684
X-APPLE-STRUCTURED-LOCATION;VALUE=URI;X-ADDRESS=Taylor Room Price Hall Seashore and Academy Rd Seashore at Academy Roads Cold Spring NJ 08224;X-APPLE-RADIUS=500;X-TITLE=Seashore at Academy Roads:geo:-74.9171684,38.9735189
END:VEVENT
BEGIN:VEVENT
DTSTART;TZID=America/New_York:20270112T170000
DTEND;TZID=America/New_York:20270112T190000
DTSTAMP:20260419T131009
CREATED:20250428T170920Z
LAST-MODIFIED:20250428T170947Z
UID:10015141-1799773200-1799780400@coldspringchurch.com
SUMMARY:Session Meeting
DESCRIPTION:
URL:https://coldspringchurch.com/event/session-meeting-53/2027-01-12/
LOCATION:Taylor Room\, Price Hall\, Seashore and Academy Rd\, Seashore at Academy Roads\, Cold Spring\, NJ\, 08224
GEO:38.9735189;-74.9171684
X-APPLE-STRUCTURED-LOCATION;VALUE=URI;X-ADDRESS=Taylor Room Price Hall Seashore and Academy Rd Seashore at Academy Roads Cold Spring NJ 08224;X-APPLE-RADIUS=500;X-TITLE=Seashore at Academy Roads:geo:-74.9171684,38.9735189
END:VEVENT
BEGIN:VEVENT
DTSTART;TZID=America/New_York:20270209T170000
DTEND;TZID=America/New_York:20270209T190000
DTSTAMP:20260419T131009
CREATED:20250428T170920Z
LAST-MODIFIED:20250428T170947Z
UID:10015142-1802192400-1802199600@coldspringchurch.com
SUMMARY:Session Meeting
DESCRIPTION:
URL:https://coldspringchurch.com/event/session-meeting-53/2027-02-09/
LOCATION:Taylor Room\, Price Hall\, Seashore and Academy Rd\, Seashore at Academy Roads\, Cold Spring\, NJ\, 08224
GEO:38.9735189;-74.9171684
X-APPLE-STRUCTURED-LOCATION;VALUE=URI;X-ADDRESS=Taylor Room Price Hall Seashore and Academy Rd Seashore at Academy Roads Cold Spring NJ 08224;X-APPLE-RADIUS=500;X-TITLE=Seashore at Academy Roads:geo:-74.9171684,38.9735189
END:VEVENT
BEGIN:VEVENT
DTSTART;TZID=America/New_York:20270309T170000
DTEND;TZID=America/New_York:20270309T190000
DTSTAMP:20260419T131009
CREATED:20250428T170920Z
LAST-MODIFIED:20250428T170947Z
UID:10015143-1804611600-1804618800@coldspringchurch.com
SUMMARY:Session Meeting
DESCRIPTION:
URL:https://coldspringchurch.com/event/session-meeting-53/2027-03-09/
LOCATION:Taylor Room\, Price Hall\, Seashore and Academy Rd\, Seashore at Academy Roads\, Cold Spring\, NJ\, 08224
GEO:38.9735189;-74.9171684
X-APPLE-STRUCTURED-LOCATION;VALUE=URI;X-ADDRESS=Taylor Room Price Hall Seashore and Academy Rd Seashore at Academy Roads Cold Spring NJ 08224;X-APPLE-RADIUS=500;X-TITLE=Seashore at Academy Roads:geo:-74.9171684,38.9735189
END:VEVENT
BEGIN:VEVENT
DTSTART;TZID=America/New_York:20270413T170000
DTEND;TZID=America/New_York:20270413T190000
DTSTAMP:20260419T131009
CREATED:20250428T170920Z
LAST-MODIFIED:20250428T170947Z
UID:10015144-1807635600-1807642800@coldspringchurch.com
SUMMARY:Session Meeting
DESCRIPTION:
URL:https://coldspringchurch.com/event/session-meeting-53/2027-04-13/
LOCATION:Taylor Room\, Price Hall\, Seashore and Academy Rd\, Seashore at Academy Roads\, Cold Spring\, NJ\, 08224
GEO:38.9735189;-74.9171684
X-APPLE-STRUCTURED-LOCATION;VALUE=URI;X-ADDRESS=Taylor Room Price Hall Seashore and Academy Rd Seashore at Academy Roads Cold Spring NJ 08224;X-APPLE-RADIUS=500;X-TITLE=Seashore at Academy Roads:geo:-74.9171684,38.9735189
END:VEVENT
END:VCALENDAR