BEGIN:VCALENDAR
VERSION:2.0
PRODID:-//Cold Spring Church - ECPv6.15.20//NONSGML v1.0//EN
CALSCALE:GREGORIAN
METHOD:PUBLISH
X-ORIGINAL-URL:https://coldspringchurch.com
X-WR-CALDESC:Events for Cold Spring Church
REFRESH-INTERVAL;VALUE=DURATION:PT1H
X-Robots-Tag:noindex
X-PUBLISHED-TTL:PT1H
BEGIN:VTIMEZONE
TZID:America/New_York
BEGIN:DAYLIGHT
TZOFFSETFROM:-0500
TZOFFSETTO:-0400
TZNAME:EDT
DTSTART:20250309T070000
END:DAYLIGHT
BEGIN:STANDARD
TZOFFSETFROM:-0400
TZOFFSETTO:-0500
TZNAME:EST
DTSTART:20251102T060000
END:STANDARD
BEGIN:DAYLIGHT
TZOFFSETFROM:-0500
TZOFFSETTO:-0400
TZNAME:EDT
DTSTART:20260308T070000
END:DAYLIGHT
BEGIN:STANDARD
TZOFFSETFROM:-0400
TZOFFSETTO:-0500
TZNAME:EST
DTSTART:20261101T060000
END:STANDARD
BEGIN:DAYLIGHT
TZOFFSETFROM:-0500
TZOFFSETTO:-0400
TZNAME:EDT
DTSTART:20270314T070000
END:DAYLIGHT
BEGIN:STANDARD
TZOFFSETFROM:-0400
TZOFFSETTO:-0500
TZNAME:EST
DTSTART:20271107T060000
END:STANDARD
END:VTIMEZONE
BEGIN:VEVENT
DTSTART;TZID=America/New_York:20261013T170000
DTEND;TZID=America/New_York:20261013T180000
DTSTAMP:20260423T050700
CREATED:20250428T164026Z
LAST-MODIFIED:20250428T164355Z
UID:10014851-1791910800-1791914400@coldspringchurch.com
SUMMARY:AA Meeting
DESCRIPTION:
URL:https://coldspringchurch.com/event/aa-meeting-99/2026-10-13/
LOCATION:Price Hall\, Cold Spring Presbyterian Church\, Cape May\, NJ\, United States\, 701 Spring Ln\, United States
GEO:38.966497;-74.928636
X-APPLE-STRUCTURED-LOCATION;VALUE=URI;X-ADDRESS=Price Hall Cold Spring Presbyterian Church Cape May NJ United States 701 Spring Ln United States;X-APPLE-RADIUS=500;X-TITLE=701 Spring Ln:geo:-74.928636,38.966497
END:VEVENT
BEGIN:VEVENT
DTSTART;TZID=America/New_York:20261015T100000
DTEND;TZID=America/New_York:20261015T140000
DTSTAMP:20260423T050700
CREATED:20250428T170320Z
LAST-MODIFIED:20260324T154609Z
UID:10015385-1792058400-1792072800@coldspringchurch.com
SUMMARY:Easter Seals
DESCRIPTION:
URL:https://coldspringchurch.com/event/easter-seals/2026-10-15/
LOCATION:Price Hall\, Cold Spring Presbyterian Church\, Cape May\, NJ\, United States\, 701 Spring Ln\, United States
GEO:38.966497;-74.928636
X-APPLE-STRUCTURED-LOCATION;VALUE=URI;X-ADDRESS=Price Hall Cold Spring Presbyterian Church Cape May NJ United States 701 Spring Ln United States;X-APPLE-RADIUS=500;X-TITLE=701 Spring Ln:geo:-74.928636,38.966497
END:VEVENT
BEGIN:VEVENT
DTSTART;TZID=America/New_York:20261015T193000
DTEND;TZID=America/New_York:20261015T210000
DTSTAMP:20260423T050700
CREATED:20250428T164525Z
LAST-MODIFIED:20260324T160059Z
UID:10016017-1792092600-1792098000@coldspringchurch.com
SUMMARY:NA Meeting
DESCRIPTION:
URL:https://coldspringchurch.com/event/na-meeting/2026-10-15/
LOCATION:Price Hall\, Cold Spring Presbyterian Church\, Cape May\, NJ\, United States\, 701 Spring Ln\, United States
CATEGORIES:Events
GEO:38.966497;-74.928636
X-APPLE-STRUCTURED-LOCATION;VALUE=URI;X-ADDRESS=Price Hall Cold Spring Presbyterian Church Cape May NJ United States 701 Spring Ln United States;X-APPLE-RADIUS=500;X-TITLE=701 Spring Ln:geo:-74.928636,38.966497
END:VEVENT
BEGIN:VEVENT
DTSTART;TZID=America/New_York:20261016T170000
DTEND;TZID=America/New_York:20261016T180000
DTSTAMP:20260423T050700
CREATED:20250428T164629Z
LAST-MODIFIED:20250428T165010Z
UID:10015060-1792170000-1792173600@coldspringchurch.com
SUMMARY:AA Meeting
DESCRIPTION:
URL:https://coldspringchurch.com/event/aa-meeting-100/2026-10-16/
LOCATION:Price Hall\, Cold Spring Presbyterian Church\, Cape May\, NJ\, United States\, 701 Spring Ln\, United States
GEO:38.966497;-74.928636
X-APPLE-STRUCTURED-LOCATION;VALUE=URI;X-ADDRESS=Price Hall Cold Spring Presbyterian Church Cape May NJ United States 701 Spring Ln United States;X-APPLE-RADIUS=500;X-TITLE=701 Spring Ln:geo:-74.928636,38.966497
END:VEVENT
BEGIN:VEVENT
DTSTART;TZID=America/New_York:20261018T090000
DTEND;TZID=America/New_York:20261018T103000
DTSTAMP:20260423T050700
CREATED:20250428T162748Z
LAST-MODIFIED:20250428T163042Z
UID:10014642-1792314000-1792319400@coldspringchurch.com
SUMMARY:AA Meeting
DESCRIPTION:
URL:https://coldspringchurch.com/event/aa-meeting-97/2026-10-18/
LOCATION:Price Hall\, Cold Spring Presbyterian Church\, Cape May\, NJ\, United States\, 701 Spring Ln\, United States
GEO:38.966497;-74.928636
X-APPLE-STRUCTURED-LOCATION;VALUE=URI;X-ADDRESS=Price Hall Cold Spring Presbyterian Church Cape May NJ United States 701 Spring Ln United States;X-APPLE-RADIUS=500;X-TITLE=701 Spring Ln:geo:-74.928636,38.966497
END:VEVENT
BEGIN:VEVENT
DTSTART;TZID=America/New_York:20261018T190000
DTEND;TZID=America/New_York:20261018T210000
DTSTAMP:20260423T050700
CREATED:20250430T173457Z
LAST-MODIFIED:20250430T173834Z
UID:10015282-1792350000-1792357200@coldspringchurch.com
SUMMARY:AA Meeting
DESCRIPTION:
URL:https://coldspringchurch.com/event/aa-meeting-101/2026-10-18/
LOCATION:Price Hall\, Cold Spring Presbyterian Church\, Cape May\, NJ\, United States\, 701 Spring Ln\, United States
GEO:38.966497;-74.928636
X-APPLE-STRUCTURED-LOCATION;VALUE=URI;X-ADDRESS=Price Hall Cold Spring Presbyterian Church Cape May NJ United States 701 Spring Ln United States;X-APPLE-RADIUS=500;X-TITLE=701 Spring Ln:geo:-74.928636,38.966497
END:VEVENT
BEGIN:VEVENT
DTSTART;TZID=America/New_York:20261019T160000
DTEND;TZID=America/New_York:20261019T170000
DTSTAMP:20260423T050700
CREATED:20250428T163500Z
LAST-MODIFIED:20250428T164222Z
UID:10014748-1792425600-1792429200@coldspringchurch.com
SUMMARY:AA Women's meeting
DESCRIPTION:
URL:https://coldspringchurch.com/event/aa-womens-meeting/2026-10-19/
LOCATION:Price Hall\, Cold Spring Presbyterian Church\, Cape May\, NJ\, United States\, 701 Spring Ln\, United States
GEO:38.966497;-74.928636
X-APPLE-STRUCTURED-LOCATION;VALUE=URI;X-ADDRESS=Price Hall Cold Spring Presbyterian Church Cape May NJ United States 701 Spring Ln United States;X-APPLE-RADIUS=500;X-TITLE=701 Spring Ln:geo:-74.928636,38.966497
END:VEVENT
BEGIN:VEVENT
DTSTART;TZID=America/New_York:20261020T170000
DTEND;TZID=America/New_York:20261020T180000
DTSTAMP:20260423T050700
CREATED:20250428T164026Z
LAST-MODIFIED:20250428T164355Z
UID:10014852-1792515600-1792519200@coldspringchurch.com
SUMMARY:AA Meeting
DESCRIPTION:
URL:https://coldspringchurch.com/event/aa-meeting-99/2026-10-20/
LOCATION:Price Hall\, Cold Spring Presbyterian Church\, Cape May\, NJ\, United States\, 701 Spring Ln\, United States
GEO:38.966497;-74.928636
X-APPLE-STRUCTURED-LOCATION;VALUE=URI;X-ADDRESS=Price Hall Cold Spring Presbyterian Church Cape May NJ United States 701 Spring Ln United States;X-APPLE-RADIUS=500;X-TITLE=701 Spring Ln:geo:-74.928636,38.966497
END:VEVENT
BEGIN:VEVENT
DTSTART;TZID=America/New_York:20261022T100000
DTEND;TZID=America/New_York:20261022T140000
DTSTAMP:20260423T050700
CREATED:20250428T170320Z
LAST-MODIFIED:20260324T154609Z
UID:10015386-1792663200-1792677600@coldspringchurch.com
SUMMARY:Easter Seals
DESCRIPTION:
URL:https://coldspringchurch.com/event/easter-seals/2026-10-22/
LOCATION:Price Hall\, Cold Spring Presbyterian Church\, Cape May\, NJ\, United States\, 701 Spring Ln\, United States
GEO:38.966497;-74.928636
X-APPLE-STRUCTURED-LOCATION;VALUE=URI;X-ADDRESS=Price Hall Cold Spring Presbyterian Church Cape May NJ United States 701 Spring Ln United States;X-APPLE-RADIUS=500;X-TITLE=701 Spring Ln:geo:-74.928636,38.966497
END:VEVENT
BEGIN:VEVENT
DTSTART;TZID=America/New_York:20261022T193000
DTEND;TZID=America/New_York:20261022T210000
DTSTAMP:20260423T050700
CREATED:20250428T164525Z
LAST-MODIFIED:20260324T160059Z
UID:10016018-1792697400-1792702800@coldspringchurch.com
SUMMARY:NA Meeting
DESCRIPTION:
URL:https://coldspringchurch.com/event/na-meeting/2026-10-22/
LOCATION:Price Hall\, Cold Spring Presbyterian Church\, Cape May\, NJ\, United States\, 701 Spring Ln\, United States
CATEGORIES:Events
GEO:38.966497;-74.928636
X-APPLE-STRUCTURED-LOCATION;VALUE=URI;X-ADDRESS=Price Hall Cold Spring Presbyterian Church Cape May NJ United States 701 Spring Ln United States;X-APPLE-RADIUS=500;X-TITLE=701 Spring Ln:geo:-74.928636,38.966497
END:VEVENT
BEGIN:VEVENT
DTSTART;TZID=America/New_York:20261023T170000
DTEND;TZID=America/New_York:20261023T180000
DTSTAMP:20260423T050700
CREATED:20250428T164629Z
LAST-MODIFIED:20250428T165010Z
UID:10015061-1792774800-1792778400@coldspringchurch.com
SUMMARY:AA Meeting
DESCRIPTION:
URL:https://coldspringchurch.com/event/aa-meeting-100/2026-10-23/
LOCATION:Price Hall\, Cold Spring Presbyterian Church\, Cape May\, NJ\, United States\, 701 Spring Ln\, United States
GEO:38.966497;-74.928636
X-APPLE-STRUCTURED-LOCATION;VALUE=URI;X-ADDRESS=Price Hall Cold Spring Presbyterian Church Cape May NJ United States 701 Spring Ln United States;X-APPLE-RADIUS=500;X-TITLE=701 Spring Ln:geo:-74.928636,38.966497
END:VEVENT
BEGIN:VEVENT
DTSTART;TZID=America/New_York:20261025T090000
DTEND;TZID=America/New_York:20261025T103000
DTSTAMP:20260423T050700
CREATED:20250428T162748Z
LAST-MODIFIED:20250428T163042Z
UID:10014643-1792918800-1792924200@coldspringchurch.com
SUMMARY:AA Meeting
DESCRIPTION:
URL:https://coldspringchurch.com/event/aa-meeting-97/2026-10-25/
LOCATION:Price Hall\, Cold Spring Presbyterian Church\, Cape May\, NJ\, United States\, 701 Spring Ln\, United States
GEO:38.966497;-74.928636
X-APPLE-STRUCTURED-LOCATION;VALUE=URI;X-ADDRESS=Price Hall Cold Spring Presbyterian Church Cape May NJ United States 701 Spring Ln United States;X-APPLE-RADIUS=500;X-TITLE=701 Spring Ln:geo:-74.928636,38.966497
END:VEVENT
BEGIN:VEVENT
DTSTART;TZID=America/New_York:20261025T190000
DTEND;TZID=America/New_York:20261025T210000
DTSTAMP:20260423T050700
CREATED:20250430T173457Z
LAST-MODIFIED:20250430T173834Z
UID:10015283-1792954800-1792962000@coldspringchurch.com
SUMMARY:AA Meeting
DESCRIPTION:
URL:https://coldspringchurch.com/event/aa-meeting-101/2026-10-25/
LOCATION:Price Hall\, Cold Spring Presbyterian Church\, Cape May\, NJ\, United States\, 701 Spring Ln\, United States
GEO:38.966497;-74.928636
X-APPLE-STRUCTURED-LOCATION;VALUE=URI;X-ADDRESS=Price Hall Cold Spring Presbyterian Church Cape May NJ United States 701 Spring Ln United States;X-APPLE-RADIUS=500;X-TITLE=701 Spring Ln:geo:-74.928636,38.966497
END:VEVENT
BEGIN:VEVENT
DTSTART;TZID=America/New_York:20261026T160000
DTEND;TZID=America/New_York:20261026T170000
DTSTAMP:20260423T050700
CREATED:20250428T163500Z
LAST-MODIFIED:20250428T164222Z
UID:10014749-1793030400-1793034000@coldspringchurch.com
SUMMARY:AA Women's meeting
DESCRIPTION:
URL:https://coldspringchurch.com/event/aa-womens-meeting/2026-10-26/
LOCATION:Price Hall\, Cold Spring Presbyterian Church\, Cape May\, NJ\, United States\, 701 Spring Ln\, United States
GEO:38.966497;-74.928636
X-APPLE-STRUCTURED-LOCATION;VALUE=URI;X-ADDRESS=Price Hall Cold Spring Presbyterian Church Cape May NJ United States 701 Spring Ln United States;X-APPLE-RADIUS=500;X-TITLE=701 Spring Ln:geo:-74.928636,38.966497
END:VEVENT
BEGIN:VEVENT
DTSTART;TZID=America/New_York:20261027T170000
DTEND;TZID=America/New_York:20261027T180000
DTSTAMP:20260423T050700
CREATED:20250428T164026Z
LAST-MODIFIED:20250428T164355Z
UID:10014853-1793120400-1793124000@coldspringchurch.com
SUMMARY:AA Meeting
DESCRIPTION:
URL:https://coldspringchurch.com/event/aa-meeting-99/2026-10-27/
LOCATION:Price Hall\, Cold Spring Presbyterian Church\, Cape May\, NJ\, United States\, 701 Spring Ln\, United States
GEO:38.966497;-74.928636
X-APPLE-STRUCTURED-LOCATION;VALUE=URI;X-ADDRESS=Price Hall Cold Spring Presbyterian Church Cape May NJ United States 701 Spring Ln United States;X-APPLE-RADIUS=500;X-TITLE=701 Spring Ln:geo:-74.928636,38.966497
END:VEVENT
BEGIN:VEVENT
DTSTART;TZID=America/New_York:20261029T100000
DTEND;TZID=America/New_York:20261029T140000
DTSTAMP:20260423T050700
CREATED:20250428T170320Z
LAST-MODIFIED:20260324T154609Z
UID:10015387-1793268000-1793282400@coldspringchurch.com
SUMMARY:Easter Seals
DESCRIPTION:
URL:https://coldspringchurch.com/event/easter-seals/2026-10-29/
LOCATION:Price Hall\, Cold Spring Presbyterian Church\, Cape May\, NJ\, United States\, 701 Spring Ln\, United States
GEO:38.966497;-74.928636
X-APPLE-STRUCTURED-LOCATION;VALUE=URI;X-ADDRESS=Price Hall Cold Spring Presbyterian Church Cape May NJ United States 701 Spring Ln United States;X-APPLE-RADIUS=500;X-TITLE=701 Spring Ln:geo:-74.928636,38.966497
END:VEVENT
BEGIN:VEVENT
DTSTART;TZID=America/New_York:20261029T193000
DTEND;TZID=America/New_York:20261029T210000
DTSTAMP:20260423T050700
CREATED:20250428T164525Z
LAST-MODIFIED:20260324T160059Z
UID:10016019-1793302200-1793307600@coldspringchurch.com
SUMMARY:NA Meeting
DESCRIPTION:
URL:https://coldspringchurch.com/event/na-meeting/2026-10-29/
LOCATION:Price Hall\, Cold Spring Presbyterian Church\, Cape May\, NJ\, United States\, 701 Spring Ln\, United States
CATEGORIES:Events
GEO:38.966497;-74.928636
X-APPLE-STRUCTURED-LOCATION;VALUE=URI;X-ADDRESS=Price Hall Cold Spring Presbyterian Church Cape May NJ United States 701 Spring Ln United States;X-APPLE-RADIUS=500;X-TITLE=701 Spring Ln:geo:-74.928636,38.966497
END:VEVENT
BEGIN:VEVENT
DTSTART;TZID=America/New_York:20261030T170000
DTEND;TZID=America/New_York:20261030T180000
DTSTAMP:20260423T050700
CREATED:20250428T164629Z
LAST-MODIFIED:20250428T165010Z
UID:10015062-1793379600-1793383200@coldspringchurch.com
SUMMARY:AA Meeting
DESCRIPTION:
URL:https://coldspringchurch.com/event/aa-meeting-100/2026-10-30/
LOCATION:Price Hall\, Cold Spring Presbyterian Church\, Cape May\, NJ\, United States\, 701 Spring Ln\, United States
GEO:38.966497;-74.928636
X-APPLE-STRUCTURED-LOCATION;VALUE=URI;X-ADDRESS=Price Hall Cold Spring Presbyterian Church Cape May NJ United States 701 Spring Ln United States;X-APPLE-RADIUS=500;X-TITLE=701 Spring Ln:geo:-74.928636,38.966497
END:VEVENT
BEGIN:VEVENT
DTSTART;TZID=America/New_York:20261101T090000
DTEND;TZID=America/New_York:20261101T103000
DTSTAMP:20260423T050700
CREATED:20250428T162748Z
LAST-MODIFIED:20250428T163042Z
UID:10014644-1793523600-1793529000@coldspringchurch.com
SUMMARY:AA Meeting
DESCRIPTION:
URL:https://coldspringchurch.com/event/aa-meeting-97/2026-11-01/
LOCATION:Price Hall\, Cold Spring Presbyterian Church\, Cape May\, NJ\, United States\, 701 Spring Ln\, United States
GEO:38.966497;-74.928636
X-APPLE-STRUCTURED-LOCATION;VALUE=URI;X-ADDRESS=Price Hall Cold Spring Presbyterian Church Cape May NJ United States 701 Spring Ln United States;X-APPLE-RADIUS=500;X-TITLE=701 Spring Ln:geo:-74.928636,38.966497
END:VEVENT
BEGIN:VEVENT
DTSTART;TZID=America/New_York:20261101T190000
DTEND;TZID=America/New_York:20261101T210000
DTSTAMP:20260423T050700
CREATED:20250430T173457Z
LAST-MODIFIED:20250430T173834Z
UID:10015284-1793559600-1793566800@coldspringchurch.com
SUMMARY:AA Meeting
DESCRIPTION:
URL:https://coldspringchurch.com/event/aa-meeting-101/2026-11-01/
LOCATION:Price Hall\, Cold Spring Presbyterian Church\, Cape May\, NJ\, United States\, 701 Spring Ln\, United States
GEO:38.966497;-74.928636
X-APPLE-STRUCTURED-LOCATION;VALUE=URI;X-ADDRESS=Price Hall Cold Spring Presbyterian Church Cape May NJ United States 701 Spring Ln United States;X-APPLE-RADIUS=500;X-TITLE=701 Spring Ln:geo:-74.928636,38.966497
END:VEVENT
BEGIN:VEVENT
DTSTART;TZID=America/New_York:20261102T160000
DTEND;TZID=America/New_York:20261102T170000
DTSTAMP:20260423T050700
CREATED:20250428T163500Z
LAST-MODIFIED:20250428T164222Z
UID:10014750-1793635200-1793638800@coldspringchurch.com
SUMMARY:AA Women's meeting
DESCRIPTION:
URL:https://coldspringchurch.com/event/aa-womens-meeting/2026-11-02/
LOCATION:Price Hall\, Cold Spring Presbyterian Church\, Cape May\, NJ\, United States\, 701 Spring Ln\, United States
GEO:38.966497;-74.928636
X-APPLE-STRUCTURED-LOCATION;VALUE=URI;X-ADDRESS=Price Hall Cold Spring Presbyterian Church Cape May NJ United States 701 Spring Ln United States;X-APPLE-RADIUS=500;X-TITLE=701 Spring Ln:geo:-74.928636,38.966497
END:VEVENT
BEGIN:VEVENT
DTSTART;TZID=America/New_York:20261103T170000
DTEND;TZID=America/New_York:20261103T180000
DTSTAMP:20260423T050700
CREATED:20250428T164026Z
LAST-MODIFIED:20250428T164355Z
UID:10014854-1793725200-1793728800@coldspringchurch.com
SUMMARY:AA Meeting
DESCRIPTION:
URL:https://coldspringchurch.com/event/aa-meeting-99/2026-11-03/
LOCATION:Price Hall\, Cold Spring Presbyterian Church\, Cape May\, NJ\, United States\, 701 Spring Ln\, United States
GEO:38.966497;-74.928636
X-APPLE-STRUCTURED-LOCATION;VALUE=URI;X-ADDRESS=Price Hall Cold Spring Presbyterian Church Cape May NJ United States 701 Spring Ln United States;X-APPLE-RADIUS=500;X-TITLE=701 Spring Ln:geo:-74.928636,38.966497
END:VEVENT
BEGIN:VEVENT
DTSTART;TZID=America/New_York:20261105T100000
DTEND;TZID=America/New_York:20261105T140000
DTSTAMP:20260423T050700
CREATED:20250428T170320Z
LAST-MODIFIED:20260324T154609Z
UID:10015388-1793872800-1793887200@coldspringchurch.com
SUMMARY:Easter Seals
DESCRIPTION:
URL:https://coldspringchurch.com/event/easter-seals/2026-11-05/
LOCATION:Price Hall\, Cold Spring Presbyterian Church\, Cape May\, NJ\, United States\, 701 Spring Ln\, United States
GEO:38.966497;-74.928636
X-APPLE-STRUCTURED-LOCATION;VALUE=URI;X-ADDRESS=Price Hall Cold Spring Presbyterian Church Cape May NJ United States 701 Spring Ln United States;X-APPLE-RADIUS=500;X-TITLE=701 Spring Ln:geo:-74.928636,38.966497
END:VEVENT
BEGIN:VEVENT
DTSTART;TZID=America/New_York:20261105T193000
DTEND;TZID=America/New_York:20261105T210000
DTSTAMP:20260423T050700
CREATED:20250428T164525Z
LAST-MODIFIED:20260324T160059Z
UID:10016020-1793907000-1793912400@coldspringchurch.com
SUMMARY:NA Meeting
DESCRIPTION:
URL:https://coldspringchurch.com/event/na-meeting/2026-11-05/
LOCATION:Price Hall\, Cold Spring Presbyterian Church\, Cape May\, NJ\, United States\, 701 Spring Ln\, United States
CATEGORIES:Events
GEO:38.966497;-74.928636
X-APPLE-STRUCTURED-LOCATION;VALUE=URI;X-ADDRESS=Price Hall Cold Spring Presbyterian Church Cape May NJ United States 701 Spring Ln United States;X-APPLE-RADIUS=500;X-TITLE=701 Spring Ln:geo:-74.928636,38.966497
END:VEVENT
BEGIN:VEVENT
DTSTART;TZID=America/New_York:20261106T170000
DTEND;TZID=America/New_York:20261106T180000
DTSTAMP:20260423T050700
CREATED:20250428T164629Z
LAST-MODIFIED:20250428T165010Z
UID:10015063-1793984400-1793988000@coldspringchurch.com
SUMMARY:AA Meeting
DESCRIPTION:
URL:https://coldspringchurch.com/event/aa-meeting-100/2026-11-06/
LOCATION:Price Hall\, Cold Spring Presbyterian Church\, Cape May\, NJ\, United States\, 701 Spring Ln\, United States
GEO:38.966497;-74.928636
X-APPLE-STRUCTURED-LOCATION;VALUE=URI;X-ADDRESS=Price Hall Cold Spring Presbyterian Church Cape May NJ United States 701 Spring Ln United States;X-APPLE-RADIUS=500;X-TITLE=701 Spring Ln:geo:-74.928636,38.966497
END:VEVENT
BEGIN:VEVENT
DTSTART;TZID=America/New_York:20261108T090000
DTEND;TZID=America/New_York:20261108T103000
DTSTAMP:20260423T050700
CREATED:20250428T162748Z
LAST-MODIFIED:20250428T163042Z
UID:10014645-1794128400-1794133800@coldspringchurch.com
SUMMARY:AA Meeting
DESCRIPTION:
URL:https://coldspringchurch.com/event/aa-meeting-97/2026-11-08/
LOCATION:Price Hall\, Cold Spring Presbyterian Church\, Cape May\, NJ\, United States\, 701 Spring Ln\, United States
GEO:38.966497;-74.928636
X-APPLE-STRUCTURED-LOCATION;VALUE=URI;X-ADDRESS=Price Hall Cold Spring Presbyterian Church Cape May NJ United States 701 Spring Ln United States;X-APPLE-RADIUS=500;X-TITLE=701 Spring Ln:geo:-74.928636,38.966497
END:VEVENT
BEGIN:VEVENT
DTSTART;TZID=America/New_York:20261108T190000
DTEND;TZID=America/New_York:20261108T210000
DTSTAMP:20260423T050700
CREATED:20250430T173457Z
LAST-MODIFIED:20250430T173834Z
UID:10015285-1794164400-1794171600@coldspringchurch.com
SUMMARY:AA Meeting
DESCRIPTION:
URL:https://coldspringchurch.com/event/aa-meeting-101/2026-11-08/
LOCATION:Price Hall\, Cold Spring Presbyterian Church\, Cape May\, NJ\, United States\, 701 Spring Ln\, United States
GEO:38.966497;-74.928636
X-APPLE-STRUCTURED-LOCATION;VALUE=URI;X-ADDRESS=Price Hall Cold Spring Presbyterian Church Cape May NJ United States 701 Spring Ln United States;X-APPLE-RADIUS=500;X-TITLE=701 Spring Ln:geo:-74.928636,38.966497
END:VEVENT
BEGIN:VEVENT
DTSTART;TZID=America/New_York:20261109T160000
DTEND;TZID=America/New_York:20261109T170000
DTSTAMP:20260423T050700
CREATED:20250428T163500Z
LAST-MODIFIED:20250428T164222Z
UID:10014751-1794240000-1794243600@coldspringchurch.com
SUMMARY:AA Women's meeting
DESCRIPTION:
URL:https://coldspringchurch.com/event/aa-womens-meeting/2026-11-09/
LOCATION:Price Hall\, Cold Spring Presbyterian Church\, Cape May\, NJ\, United States\, 701 Spring Ln\, United States
GEO:38.966497;-74.928636
X-APPLE-STRUCTURED-LOCATION;VALUE=URI;X-ADDRESS=Price Hall Cold Spring Presbyterian Church Cape May NJ United States 701 Spring Ln United States;X-APPLE-RADIUS=500;X-TITLE=701 Spring Ln:geo:-74.928636,38.966497
END:VEVENT
BEGIN:VEVENT
DTSTART;TZID=America/New_York:20261110T170000
DTEND;TZID=America/New_York:20261110T180000
DTSTAMP:20260423T050700
CREATED:20250428T164026Z
LAST-MODIFIED:20250428T164355Z
UID:10014855-1794330000-1794333600@coldspringchurch.com
SUMMARY:AA Meeting
DESCRIPTION:
URL:https://coldspringchurch.com/event/aa-meeting-99/2026-11-10/
LOCATION:Price Hall\, Cold Spring Presbyterian Church\, Cape May\, NJ\, United States\, 701 Spring Ln\, United States
GEO:38.966497;-74.928636
X-APPLE-STRUCTURED-LOCATION;VALUE=URI;X-ADDRESS=Price Hall Cold Spring Presbyterian Church Cape May NJ United States 701 Spring Ln United States;X-APPLE-RADIUS=500;X-TITLE=701 Spring Ln:geo:-74.928636,38.966497
END:VEVENT
BEGIN:VEVENT
DTSTART;TZID=America/New_York:20261112T100000
DTEND;TZID=America/New_York:20261112T140000
DTSTAMP:20260423T050700
CREATED:20250428T170320Z
LAST-MODIFIED:20260324T154609Z
UID:10015389-1794477600-1794492000@coldspringchurch.com
SUMMARY:Easter Seals
DESCRIPTION:
URL:https://coldspringchurch.com/event/easter-seals/2026-11-12/
LOCATION:Price Hall\, Cold Spring Presbyterian Church\, Cape May\, NJ\, United States\, 701 Spring Ln\, United States
GEO:38.966497;-74.928636
X-APPLE-STRUCTURED-LOCATION;VALUE=URI;X-ADDRESS=Price Hall Cold Spring Presbyterian Church Cape May NJ United States 701 Spring Ln United States;X-APPLE-RADIUS=500;X-TITLE=701 Spring Ln:geo:-74.928636,38.966497
END:VEVENT
END:VCALENDAR