BEGIN:VCALENDAR
VERSION:2.0
PRODID:-//Cold Spring Church - ECPv6.15.20//NONSGML v1.0//EN
CALSCALE:GREGORIAN
METHOD:PUBLISH
X-ORIGINAL-URL:https://coldspringchurch.com
X-WR-CALDESC:Events for Cold Spring Church
REFRESH-INTERVAL;VALUE=DURATION:PT1H
X-Robots-Tag:noindex
X-PUBLISHED-TTL:PT1H
BEGIN:VTIMEZONE
TZID:America/New_York
BEGIN:DAYLIGHT
TZOFFSETFROM:-0500
TZOFFSETTO:-0400
TZNAME:EDT
DTSTART:20280312T070000
END:DAYLIGHT
BEGIN:STANDARD
TZOFFSETFROM:-0400
TZOFFSETTO:-0500
TZNAME:EST
DTSTART:20281105T060000
END:STANDARD
BEGIN:DAYLIGHT
TZOFFSETFROM:-0500
TZOFFSETTO:-0400
TZNAME:EDT
DTSTART:20290311T070000
END:DAYLIGHT
BEGIN:STANDARD
TZOFFSETFROM:-0400
TZOFFSETTO:-0500
TZNAME:EST
DTSTART:20291104T060000
END:STANDARD
BEGIN:DAYLIGHT
TZOFFSETFROM:-0500
TZOFFSETTO:-0400
TZNAME:EDT
DTSTART:20300310T070000
END:DAYLIGHT
BEGIN:STANDARD
TZOFFSETFROM:-0400
TZOFFSETTO:-0500
TZNAME:EST
DTSTART:20301103T060000
END:STANDARD
END:VTIMEZONE
BEGIN:VEVENT
DTSTART;TZID=America/New_York:20290422T103000
DTEND;TZID=America/New_York:20290422T113000
DTSTAMP:20260421T051451
CREATED:20260324T153155Z
LAST-MODIFIED:20260324T154229Z
UID:10015610-1871548200-1871551800@coldspringchurch.com
SUMMARY:Sunday Worship Service
DESCRIPTION:Our worship service is also available live on YouTube at www.coldspringworship.com
URL:https://coldspringchurch.com/event/sunday-worship-service/2029-04-22/
LOCATION:Cold Spring Presbyterian Church\, 780 Seashore Rd\, Cape May\, NJ 08204\, USA\, 401 Seashore Rd\, United States
GEO:39.006158;-74.888962
X-APPLE-STRUCTURED-LOCATION;VALUE=URI;X-ADDRESS=Cold Spring Presbyterian Church 780 Seashore Rd Cape May NJ 08204 USA 401 Seashore Rd United States;X-APPLE-RADIUS=500;X-TITLE=401 Seashore Rd:geo:-74.888962,39.006158
END:VEVENT
BEGIN:VEVENT
DTSTART;TZID=America/New_York:20290426T100000
DTEND;TZID=America/New_York:20290426T140000
DTSTAMP:20260421T051451
CREATED:20250428T170320Z
LAST-MODIFIED:20260324T154609Z
UID:10015818-1871892000-1871906400@coldspringchurch.com
SUMMARY:Easter Seals
DESCRIPTION:
URL:https://coldspringchurch.com/event/easter-seals/2029-04-26/
LOCATION:Price Hall\, Cold Spring Presbyterian Church\, Cape May\, NJ\, United States\, 701 Spring Ln\, United States
GEO:38.966497;-74.928636
X-APPLE-STRUCTURED-LOCATION;VALUE=URI;X-ADDRESS=Price Hall Cold Spring Presbyterian Church Cape May NJ United States 701 Spring Ln United States;X-APPLE-RADIUS=500;X-TITLE=701 Spring Ln:geo:-74.928636,38.966497
END:VEVENT
BEGIN:VEVENT
DTSTART;TZID=America/New_York:20290426T193000
DTEND;TZID=America/New_York:20290426T210000
DTSTAMP:20260421T051451
CREATED:20250428T164525Z
LAST-MODIFIED:20260324T160059Z
UID:10016149-1871926200-1871931600@coldspringchurch.com
SUMMARY:NA Meeting
DESCRIPTION:
URL:https://coldspringchurch.com/event/na-meeting/2029-04-26/
LOCATION:Price Hall\, Cold Spring Presbyterian Church\, Cape May\, NJ\, United States\, 701 Spring Ln\, United States
CATEGORIES:Events
GEO:38.966497;-74.928636
X-APPLE-STRUCTURED-LOCATION;VALUE=URI;X-ADDRESS=Price Hall Cold Spring Presbyterian Church Cape May NJ United States 701 Spring Ln United States;X-APPLE-RADIUS=500;X-TITLE=701 Spring Ln:geo:-74.928636,38.966497
END:VEVENT
BEGIN:VEVENT
DTSTART;TZID=America/New_York:20290429T103000
DTEND;TZID=America/New_York:20290429T113000
DTSTAMP:20260421T051451
CREATED:20260324T153155Z
LAST-MODIFIED:20260324T154229Z
UID:10015611-1872153000-1872156600@coldspringchurch.com
SUMMARY:Sunday Worship Service
DESCRIPTION:Our worship service is also available live on YouTube at www.coldspringworship.com
URL:https://coldspringchurch.com/event/sunday-worship-service/2029-04-29/
LOCATION:Cold Spring Presbyterian Church\, 780 Seashore Rd\, Cape May\, NJ 08204\, USA\, 401 Seashore Rd\, United States
GEO:39.006158;-74.888962
X-APPLE-STRUCTURED-LOCATION;VALUE=URI;X-ADDRESS=Cold Spring Presbyterian Church 780 Seashore Rd Cape May NJ 08204 USA 401 Seashore Rd United States;X-APPLE-RADIUS=500;X-TITLE=401 Seashore Rd:geo:-74.888962,39.006158
END:VEVENT
BEGIN:VEVENT
DTSTART;TZID=America/New_York:20290503T100000
DTEND;TZID=America/New_York:20290503T140000
DTSTAMP:20260421T051451
CREATED:20250428T170320Z
LAST-MODIFIED:20260324T154609Z
UID:10015819-1872496800-1872511200@coldspringchurch.com
SUMMARY:Easter Seals
DESCRIPTION:
URL:https://coldspringchurch.com/event/easter-seals/2029-05-03/
LOCATION:Price Hall\, Cold Spring Presbyterian Church\, Cape May\, NJ\, United States\, 701 Spring Ln\, United States
GEO:38.966497;-74.928636
X-APPLE-STRUCTURED-LOCATION;VALUE=URI;X-ADDRESS=Price Hall Cold Spring Presbyterian Church Cape May NJ United States 701 Spring Ln United States;X-APPLE-RADIUS=500;X-TITLE=701 Spring Ln:geo:-74.928636,38.966497
END:VEVENT
BEGIN:VEVENT
DTSTART;TZID=America/New_York:20290503T193000
DTEND;TZID=America/New_York:20290503T210000
DTSTAMP:20260421T051451
CREATED:20250428T164525Z
LAST-MODIFIED:20260324T160059Z
UID:10016150-1872531000-1872536400@coldspringchurch.com
SUMMARY:NA Meeting
DESCRIPTION:
URL:https://coldspringchurch.com/event/na-meeting/2029-05-03/
LOCATION:Price Hall\, Cold Spring Presbyterian Church\, Cape May\, NJ\, United States\, 701 Spring Ln\, United States
CATEGORIES:Events
GEO:38.966497;-74.928636
X-APPLE-STRUCTURED-LOCATION;VALUE=URI;X-ADDRESS=Price Hall Cold Spring Presbyterian Church Cape May NJ United States 701 Spring Ln United States;X-APPLE-RADIUS=500;X-TITLE=701 Spring Ln:geo:-74.928636,38.966497
END:VEVENT
BEGIN:VEVENT
DTSTART;TZID=America/New_York:20290506T103000
DTEND;TZID=America/New_York:20290506T113000
DTSTAMP:20260421T051451
CREATED:20260324T153155Z
LAST-MODIFIED:20260324T154229Z
UID:10015612-1872757800-1872761400@coldspringchurch.com
SUMMARY:Sunday Worship Service
DESCRIPTION:Our worship service is also available live on YouTube at www.coldspringworship.com
URL:https://coldspringchurch.com/event/sunday-worship-service/2029-05-06/
LOCATION:Cold Spring Presbyterian Church\, 780 Seashore Rd\, Cape May\, NJ 08204\, USA\, 401 Seashore Rd\, United States
GEO:39.006158;-74.888962
X-APPLE-STRUCTURED-LOCATION;VALUE=URI;X-ADDRESS=Cold Spring Presbyterian Church 780 Seashore Rd Cape May NJ 08204 USA 401 Seashore Rd United States;X-APPLE-RADIUS=500;X-TITLE=401 Seashore Rd:geo:-74.888962,39.006158
END:VEVENT
BEGIN:VEVENT
DTSTART;TZID=America/New_York:20290510T100000
DTEND;TZID=America/New_York:20290510T140000
DTSTAMP:20260421T051451
CREATED:20250428T170320Z
LAST-MODIFIED:20260324T154609Z
UID:10015820-1873101600-1873116000@coldspringchurch.com
SUMMARY:Easter Seals
DESCRIPTION:
URL:https://coldspringchurch.com/event/easter-seals/2029-05-10/
LOCATION:Price Hall\, Cold Spring Presbyterian Church\, Cape May\, NJ\, United States\, 701 Spring Ln\, United States
GEO:38.966497;-74.928636
X-APPLE-STRUCTURED-LOCATION;VALUE=URI;X-ADDRESS=Price Hall Cold Spring Presbyterian Church Cape May NJ United States 701 Spring Ln United States;X-APPLE-RADIUS=500;X-TITLE=701 Spring Ln:geo:-74.928636,38.966497
END:VEVENT
BEGIN:VEVENT
DTSTART;TZID=America/New_York:20290510T193000
DTEND;TZID=America/New_York:20290510T210000
DTSTAMP:20260421T051451
CREATED:20250428T164525Z
LAST-MODIFIED:20260324T160059Z
UID:10016151-1873135800-1873141200@coldspringchurch.com
SUMMARY:NA Meeting
DESCRIPTION:
URL:https://coldspringchurch.com/event/na-meeting/2029-05-10/
LOCATION:Price Hall\, Cold Spring Presbyterian Church\, Cape May\, NJ\, United States\, 701 Spring Ln\, United States
CATEGORIES:Events
GEO:38.966497;-74.928636
X-APPLE-STRUCTURED-LOCATION;VALUE=URI;X-ADDRESS=Price Hall Cold Spring Presbyterian Church Cape May NJ United States 701 Spring Ln United States;X-APPLE-RADIUS=500;X-TITLE=701 Spring Ln:geo:-74.928636,38.966497
END:VEVENT
BEGIN:VEVENT
DTSTART;TZID=America/New_York:20290513T103000
DTEND;TZID=America/New_York:20290513T113000
DTSTAMP:20260421T051451
CREATED:20260324T153155Z
LAST-MODIFIED:20260324T154229Z
UID:10015613-1873362600-1873366200@coldspringchurch.com
SUMMARY:Sunday Worship Service
DESCRIPTION:Our worship service is also available live on YouTube at www.coldspringworship.com
URL:https://coldspringchurch.com/event/sunday-worship-service/2029-05-13/
LOCATION:Cold Spring Presbyterian Church\, 780 Seashore Rd\, Cape May\, NJ 08204\, USA\, 401 Seashore Rd\, United States
GEO:39.006158;-74.888962
X-APPLE-STRUCTURED-LOCATION;VALUE=URI;X-ADDRESS=Cold Spring Presbyterian Church 780 Seashore Rd Cape May NJ 08204 USA 401 Seashore Rd United States;X-APPLE-RADIUS=500;X-TITLE=401 Seashore Rd:geo:-74.888962,39.006158
END:VEVENT
BEGIN:VEVENT
DTSTART;TZID=America/New_York:20290517T100000
DTEND;TZID=America/New_York:20290517T140000
DTSTAMP:20260421T051451
CREATED:20250428T170320Z
LAST-MODIFIED:20260324T154609Z
UID:10015821-1873706400-1873720800@coldspringchurch.com
SUMMARY:Easter Seals
DESCRIPTION:
URL:https://coldspringchurch.com/event/easter-seals/2029-05-17/
LOCATION:Price Hall\, Cold Spring Presbyterian Church\, Cape May\, NJ\, United States\, 701 Spring Ln\, United States
GEO:38.966497;-74.928636
X-APPLE-STRUCTURED-LOCATION;VALUE=URI;X-ADDRESS=Price Hall Cold Spring Presbyterian Church Cape May NJ United States 701 Spring Ln United States;X-APPLE-RADIUS=500;X-TITLE=701 Spring Ln:geo:-74.928636,38.966497
END:VEVENT
BEGIN:VEVENT
DTSTART;TZID=America/New_York:20290517T193000
DTEND;TZID=America/New_York:20290517T210000
DTSTAMP:20260421T051451
CREATED:20250428T164525Z
LAST-MODIFIED:20260324T160059Z
UID:10016152-1873740600-1873746000@coldspringchurch.com
SUMMARY:NA Meeting
DESCRIPTION:
URL:https://coldspringchurch.com/event/na-meeting/2029-05-17/
LOCATION:Price Hall\, Cold Spring Presbyterian Church\, Cape May\, NJ\, United States\, 701 Spring Ln\, United States
CATEGORIES:Events
GEO:38.966497;-74.928636
X-APPLE-STRUCTURED-LOCATION;VALUE=URI;X-ADDRESS=Price Hall Cold Spring Presbyterian Church Cape May NJ United States 701 Spring Ln United States;X-APPLE-RADIUS=500;X-TITLE=701 Spring Ln:geo:-74.928636,38.966497
END:VEVENT
BEGIN:VEVENT
DTSTART;TZID=America/New_York:20290520T103000
DTEND;TZID=America/New_York:20290520T113000
DTSTAMP:20260421T051451
CREATED:20260324T153155Z
LAST-MODIFIED:20260324T154229Z
UID:10015614-1873967400-1873971000@coldspringchurch.com
SUMMARY:Sunday Worship Service
DESCRIPTION:Our worship service is also available live on YouTube at www.coldspringworship.com
URL:https://coldspringchurch.com/event/sunday-worship-service/2029-05-20/
LOCATION:Cold Spring Presbyterian Church\, 780 Seashore Rd\, Cape May\, NJ 08204\, USA\, 401 Seashore Rd\, United States
GEO:39.006158;-74.888962
X-APPLE-STRUCTURED-LOCATION;VALUE=URI;X-ADDRESS=Cold Spring Presbyterian Church 780 Seashore Rd Cape May NJ 08204 USA 401 Seashore Rd United States;X-APPLE-RADIUS=500;X-TITLE=401 Seashore Rd:geo:-74.888962,39.006158
END:VEVENT
BEGIN:VEVENT
DTSTART;TZID=America/New_York:20290524T100000
DTEND;TZID=America/New_York:20290524T140000
DTSTAMP:20260421T051451
CREATED:20250428T170320Z
LAST-MODIFIED:20260324T154609Z
UID:10015822-1874311200-1874325600@coldspringchurch.com
SUMMARY:Easter Seals
DESCRIPTION:
URL:https://coldspringchurch.com/event/easter-seals/2029-05-24/
LOCATION:Price Hall\, Cold Spring Presbyterian Church\, Cape May\, NJ\, United States\, 701 Spring Ln\, United States
GEO:38.966497;-74.928636
X-APPLE-STRUCTURED-LOCATION;VALUE=URI;X-ADDRESS=Price Hall Cold Spring Presbyterian Church Cape May NJ United States 701 Spring Ln United States;X-APPLE-RADIUS=500;X-TITLE=701 Spring Ln:geo:-74.928636,38.966497
END:VEVENT
BEGIN:VEVENT
DTSTART;TZID=America/New_York:20290524T193000
DTEND;TZID=America/New_York:20290524T210000
DTSTAMP:20260421T051451
CREATED:20250428T164525Z
LAST-MODIFIED:20260324T160059Z
UID:10016153-1874345400-1874350800@coldspringchurch.com
SUMMARY:NA Meeting
DESCRIPTION:
URL:https://coldspringchurch.com/event/na-meeting/2029-05-24/
LOCATION:Price Hall\, Cold Spring Presbyterian Church\, Cape May\, NJ\, United States\, 701 Spring Ln\, United States
CATEGORIES:Events
GEO:38.966497;-74.928636
X-APPLE-STRUCTURED-LOCATION;VALUE=URI;X-ADDRESS=Price Hall Cold Spring Presbyterian Church Cape May NJ United States 701 Spring Ln United States;X-APPLE-RADIUS=500;X-TITLE=701 Spring Ln:geo:-74.928636,38.966497
END:VEVENT
BEGIN:VEVENT
DTSTART;TZID=America/New_York:20290527T103000
DTEND;TZID=America/New_York:20290527T113000
DTSTAMP:20260421T051451
CREATED:20260324T153155Z
LAST-MODIFIED:20260324T154229Z
UID:10015615-1874572200-1874575800@coldspringchurch.com
SUMMARY:Sunday Worship Service
DESCRIPTION:Our worship service is also available live on YouTube at www.coldspringworship.com
URL:https://coldspringchurch.com/event/sunday-worship-service/2029-05-27/
LOCATION:Cold Spring Presbyterian Church\, 780 Seashore Rd\, Cape May\, NJ 08204\, USA\, 401 Seashore Rd\, United States
GEO:39.006158;-74.888962
X-APPLE-STRUCTURED-LOCATION;VALUE=URI;X-ADDRESS=Cold Spring Presbyterian Church 780 Seashore Rd Cape May NJ 08204 USA 401 Seashore Rd United States;X-APPLE-RADIUS=500;X-TITLE=401 Seashore Rd:geo:-74.888962,39.006158
END:VEVENT
BEGIN:VEVENT
DTSTART;TZID=America/New_York:20290531T100000
DTEND;TZID=America/New_York:20290531T140000
DTSTAMP:20260421T051451
CREATED:20250428T170320Z
LAST-MODIFIED:20260324T154609Z
UID:10015823-1874916000-1874930400@coldspringchurch.com
SUMMARY:Easter Seals
DESCRIPTION:
URL:https://coldspringchurch.com/event/easter-seals/2029-05-31/
LOCATION:Price Hall\, Cold Spring Presbyterian Church\, Cape May\, NJ\, United States\, 701 Spring Ln\, United States
GEO:38.966497;-74.928636
X-APPLE-STRUCTURED-LOCATION;VALUE=URI;X-ADDRESS=Price Hall Cold Spring Presbyterian Church Cape May NJ United States 701 Spring Ln United States;X-APPLE-RADIUS=500;X-TITLE=701 Spring Ln:geo:-74.928636,38.966497
END:VEVENT
BEGIN:VEVENT
DTSTART;TZID=America/New_York:20290531T193000
DTEND;TZID=America/New_York:20290531T210000
DTSTAMP:20260421T051451
CREATED:20250428T164525Z
LAST-MODIFIED:20260324T160059Z
UID:10016154-1874950200-1874955600@coldspringchurch.com
SUMMARY:NA Meeting
DESCRIPTION:
URL:https://coldspringchurch.com/event/na-meeting/2029-05-31/
LOCATION:Price Hall\, Cold Spring Presbyterian Church\, Cape May\, NJ\, United States\, 701 Spring Ln\, United States
CATEGORIES:Events
GEO:38.966497;-74.928636
X-APPLE-STRUCTURED-LOCATION;VALUE=URI;X-ADDRESS=Price Hall Cold Spring Presbyterian Church Cape May NJ United States 701 Spring Ln United States;X-APPLE-RADIUS=500;X-TITLE=701 Spring Ln:geo:-74.928636,38.966497
END:VEVENT
BEGIN:VEVENT
DTSTART;TZID=America/New_York:20290603T103000
DTEND;TZID=America/New_York:20290603T113000
DTSTAMP:20260421T051451
CREATED:20260324T153155Z
LAST-MODIFIED:20260324T154229Z
UID:10015616-1875177000-1875180600@coldspringchurch.com
SUMMARY:Sunday Worship Service
DESCRIPTION:Our worship service is also available live on YouTube at www.coldspringworship.com
URL:https://coldspringchurch.com/event/sunday-worship-service/2029-06-03/
LOCATION:Cold Spring Presbyterian Church\, 780 Seashore Rd\, Cape May\, NJ 08204\, USA\, 401 Seashore Rd\, United States
GEO:39.006158;-74.888962
X-APPLE-STRUCTURED-LOCATION;VALUE=URI;X-ADDRESS=Cold Spring Presbyterian Church 780 Seashore Rd Cape May NJ 08204 USA 401 Seashore Rd United States;X-APPLE-RADIUS=500;X-TITLE=401 Seashore Rd:geo:-74.888962,39.006158
END:VEVENT
BEGIN:VEVENT
DTSTART;TZID=America/New_York:20290607T100000
DTEND;TZID=America/New_York:20290607T140000
DTSTAMP:20260421T051451
CREATED:20250428T170320Z
LAST-MODIFIED:20260324T154609Z
UID:10015824-1875520800-1875535200@coldspringchurch.com
SUMMARY:Easter Seals
DESCRIPTION:
URL:https://coldspringchurch.com/event/easter-seals/2029-06-07/
LOCATION:Price Hall\, Cold Spring Presbyterian Church\, Cape May\, NJ\, United States\, 701 Spring Ln\, United States
GEO:38.966497;-74.928636
X-APPLE-STRUCTURED-LOCATION;VALUE=URI;X-ADDRESS=Price Hall Cold Spring Presbyterian Church Cape May NJ United States 701 Spring Ln United States;X-APPLE-RADIUS=500;X-TITLE=701 Spring Ln:geo:-74.928636,38.966497
END:VEVENT
BEGIN:VEVENT
DTSTART;TZID=America/New_York:20290607T193000
DTEND;TZID=America/New_York:20290607T210000
DTSTAMP:20260421T051451
CREATED:20250428T164525Z
LAST-MODIFIED:20260324T160059Z
UID:10016155-1875555000-1875560400@coldspringchurch.com
SUMMARY:NA Meeting
DESCRIPTION:
URL:https://coldspringchurch.com/event/na-meeting/2029-06-07/
LOCATION:Price Hall\, Cold Spring Presbyterian Church\, Cape May\, NJ\, United States\, 701 Spring Ln\, United States
CATEGORIES:Events
GEO:38.966497;-74.928636
X-APPLE-STRUCTURED-LOCATION;VALUE=URI;X-ADDRESS=Price Hall Cold Spring Presbyterian Church Cape May NJ United States 701 Spring Ln United States;X-APPLE-RADIUS=500;X-TITLE=701 Spring Ln:geo:-74.928636,38.966497
END:VEVENT
BEGIN:VEVENT
DTSTART;TZID=America/New_York:20290610T103000
DTEND;TZID=America/New_York:20290610T113000
DTSTAMP:20260421T051451
CREATED:20260324T153155Z
LAST-MODIFIED:20260324T154229Z
UID:10015617-1875781800-1875785400@coldspringchurch.com
SUMMARY:Sunday Worship Service
DESCRIPTION:Our worship service is also available live on YouTube at www.coldspringworship.com
URL:https://coldspringchurch.com/event/sunday-worship-service/2029-06-10/
LOCATION:Cold Spring Presbyterian Church\, 780 Seashore Rd\, Cape May\, NJ 08204\, USA\, 401 Seashore Rd\, United States
GEO:39.006158;-74.888962
X-APPLE-STRUCTURED-LOCATION;VALUE=URI;X-ADDRESS=Cold Spring Presbyterian Church 780 Seashore Rd Cape May NJ 08204 USA 401 Seashore Rd United States;X-APPLE-RADIUS=500;X-TITLE=401 Seashore Rd:geo:-74.888962,39.006158
END:VEVENT
BEGIN:VEVENT
DTSTART;TZID=America/New_York:20290614T100000
DTEND;TZID=America/New_York:20290614T140000
DTSTAMP:20260421T051451
CREATED:20250428T170320Z
LAST-MODIFIED:20260324T154609Z
UID:10015825-1876125600-1876140000@coldspringchurch.com
SUMMARY:Easter Seals
DESCRIPTION:
URL:https://coldspringchurch.com/event/easter-seals/2029-06-14/
LOCATION:Price Hall\, Cold Spring Presbyterian Church\, Cape May\, NJ\, United States\, 701 Spring Ln\, United States
GEO:38.966497;-74.928636
X-APPLE-STRUCTURED-LOCATION;VALUE=URI;X-ADDRESS=Price Hall Cold Spring Presbyterian Church Cape May NJ United States 701 Spring Ln United States;X-APPLE-RADIUS=500;X-TITLE=701 Spring Ln:geo:-74.928636,38.966497
END:VEVENT
BEGIN:VEVENT
DTSTART;TZID=America/New_York:20290614T193000
DTEND;TZID=America/New_York:20290614T210000
DTSTAMP:20260421T051452
CREATED:20250428T164525Z
LAST-MODIFIED:20260324T160059Z
UID:10016156-1876159800-1876165200@coldspringchurch.com
SUMMARY:NA Meeting
DESCRIPTION:
URL:https://coldspringchurch.com/event/na-meeting/2029-06-14/
LOCATION:Price Hall\, Cold Spring Presbyterian Church\, Cape May\, NJ\, United States\, 701 Spring Ln\, United States
CATEGORIES:Events
GEO:38.966497;-74.928636
X-APPLE-STRUCTURED-LOCATION;VALUE=URI;X-ADDRESS=Price Hall Cold Spring Presbyterian Church Cape May NJ United States 701 Spring Ln United States;X-APPLE-RADIUS=500;X-TITLE=701 Spring Ln:geo:-74.928636,38.966497
END:VEVENT
BEGIN:VEVENT
DTSTART;TZID=America/New_York:20290617T103000
DTEND;TZID=America/New_York:20290617T113000
DTSTAMP:20260421T051452
CREATED:20260324T153155Z
LAST-MODIFIED:20260324T154229Z
UID:10015618-1876386600-1876390200@coldspringchurch.com
SUMMARY:Sunday Worship Service
DESCRIPTION:Our worship service is also available live on YouTube at www.coldspringworship.com
URL:https://coldspringchurch.com/event/sunday-worship-service/2029-06-17/
LOCATION:Cold Spring Presbyterian Church\, 780 Seashore Rd\, Cape May\, NJ 08204\, USA\, 401 Seashore Rd\, United States
GEO:39.006158;-74.888962
X-APPLE-STRUCTURED-LOCATION;VALUE=URI;X-ADDRESS=Cold Spring Presbyterian Church 780 Seashore Rd Cape May NJ 08204 USA 401 Seashore Rd United States;X-APPLE-RADIUS=500;X-TITLE=401 Seashore Rd:geo:-74.888962,39.006158
END:VEVENT
BEGIN:VEVENT
DTSTART;TZID=America/New_York:20290621T100000
DTEND;TZID=America/New_York:20290621T140000
DTSTAMP:20260421T051452
CREATED:20250428T170320Z
LAST-MODIFIED:20260324T154609Z
UID:10015826-1876730400-1876744800@coldspringchurch.com
SUMMARY:Easter Seals
DESCRIPTION:
URL:https://coldspringchurch.com/event/easter-seals/2029-06-21/
LOCATION:Price Hall\, Cold Spring Presbyterian Church\, Cape May\, NJ\, United States\, 701 Spring Ln\, United States
GEO:38.966497;-74.928636
X-APPLE-STRUCTURED-LOCATION;VALUE=URI;X-ADDRESS=Price Hall Cold Spring Presbyterian Church Cape May NJ United States 701 Spring Ln United States;X-APPLE-RADIUS=500;X-TITLE=701 Spring Ln:geo:-74.928636,38.966497
END:VEVENT
BEGIN:VEVENT
DTSTART;TZID=America/New_York:20290621T193000
DTEND;TZID=America/New_York:20290621T210000
DTSTAMP:20260421T051452
CREATED:20250428T164525Z
LAST-MODIFIED:20260324T160059Z
UID:10016157-1876764600-1876770000@coldspringchurch.com
SUMMARY:NA Meeting
DESCRIPTION:
URL:https://coldspringchurch.com/event/na-meeting/2029-06-21/
LOCATION:Price Hall\, Cold Spring Presbyterian Church\, Cape May\, NJ\, United States\, 701 Spring Ln\, United States
CATEGORIES:Events
GEO:38.966497;-74.928636
X-APPLE-STRUCTURED-LOCATION;VALUE=URI;X-ADDRESS=Price Hall Cold Spring Presbyterian Church Cape May NJ United States 701 Spring Ln United States;X-APPLE-RADIUS=500;X-TITLE=701 Spring Ln:geo:-74.928636,38.966497
END:VEVENT
BEGIN:VEVENT
DTSTART;TZID=America/New_York:20290624T103000
DTEND;TZID=America/New_York:20290624T113000
DTSTAMP:20260421T051452
CREATED:20260324T153155Z
LAST-MODIFIED:20260324T154229Z
UID:10015619-1876991400-1876995000@coldspringchurch.com
SUMMARY:Sunday Worship Service
DESCRIPTION:Our worship service is also available live on YouTube at www.coldspringworship.com
URL:https://coldspringchurch.com/event/sunday-worship-service/2029-06-24/
LOCATION:Cold Spring Presbyterian Church\, 780 Seashore Rd\, Cape May\, NJ 08204\, USA\, 401 Seashore Rd\, United States
GEO:39.006158;-74.888962
X-APPLE-STRUCTURED-LOCATION;VALUE=URI;X-ADDRESS=Cold Spring Presbyterian Church 780 Seashore Rd Cape May NJ 08204 USA 401 Seashore Rd United States;X-APPLE-RADIUS=500;X-TITLE=401 Seashore Rd:geo:-74.888962,39.006158
END:VEVENT
BEGIN:VEVENT
DTSTART;TZID=America/New_York:20290628T100000
DTEND;TZID=America/New_York:20290628T140000
DTSTAMP:20260421T051452
CREATED:20250428T170320Z
LAST-MODIFIED:20260324T154609Z
UID:10015827-1877335200-1877349600@coldspringchurch.com
SUMMARY:Easter Seals
DESCRIPTION:
URL:https://coldspringchurch.com/event/easter-seals/2029-06-28/
LOCATION:Price Hall\, Cold Spring Presbyterian Church\, Cape May\, NJ\, United States\, 701 Spring Ln\, United States
GEO:38.966497;-74.928636
X-APPLE-STRUCTURED-LOCATION;VALUE=URI;X-ADDRESS=Price Hall Cold Spring Presbyterian Church Cape May NJ United States 701 Spring Ln United States;X-APPLE-RADIUS=500;X-TITLE=701 Spring Ln:geo:-74.928636,38.966497
END:VEVENT
BEGIN:VEVENT
DTSTART;TZID=America/New_York:20290628T193000
DTEND;TZID=America/New_York:20290628T210000
DTSTAMP:20260421T051452
CREATED:20250428T164525Z
LAST-MODIFIED:20260324T160059Z
UID:10016158-1877369400-1877374800@coldspringchurch.com
SUMMARY:NA Meeting
DESCRIPTION:
URL:https://coldspringchurch.com/event/na-meeting/2029-06-28/
LOCATION:Price Hall\, Cold Spring Presbyterian Church\, Cape May\, NJ\, United States\, 701 Spring Ln\, United States
CATEGORIES:Events
GEO:38.966497;-74.928636
X-APPLE-STRUCTURED-LOCATION;VALUE=URI;X-ADDRESS=Price Hall Cold Spring Presbyterian Church Cape May NJ United States 701 Spring Ln United States;X-APPLE-RADIUS=500;X-TITLE=701 Spring Ln:geo:-74.928636,38.966497
END:VEVENT
END:VCALENDAR