BEGIN:VCALENDAR
VERSION:2.0
PRODID:-//Cold Spring Church - ECPv6.15.20//NONSGML v1.0//EN
CALSCALE:GREGORIAN
METHOD:PUBLISH
X-ORIGINAL-URL:https://coldspringchurch.com
X-WR-CALDESC:Events for Cold Spring Church
REFRESH-INTERVAL;VALUE=DURATION:PT1H
X-Robots-Tag:noindex
X-PUBLISHED-TTL:PT1H
BEGIN:VTIMEZONE
TZID:America/New_York
BEGIN:DAYLIGHT
TZOFFSETFROM:-0500
TZOFFSETTO:-0400
TZNAME:EDT
DTSTART:20260308T070000
END:DAYLIGHT
BEGIN:STANDARD
TZOFFSETFROM:-0400
TZOFFSETTO:-0500
TZNAME:EST
DTSTART:20261101T060000
END:STANDARD
BEGIN:DAYLIGHT
TZOFFSETFROM:-0500
TZOFFSETTO:-0400
TZNAME:EDT
DTSTART:20270314T070000
END:DAYLIGHT
BEGIN:STANDARD
TZOFFSETFROM:-0400
TZOFFSETTO:-0500
TZNAME:EST
DTSTART:20271107T060000
END:STANDARD
BEGIN:DAYLIGHT
TZOFFSETFROM:-0500
TZOFFSETTO:-0400
TZNAME:EDT
DTSTART:20280312T070000
END:DAYLIGHT
BEGIN:STANDARD
TZOFFSETFROM:-0400
TZOFFSETTO:-0500
TZNAME:EST
DTSTART:20281105T060000
END:STANDARD
END:VTIMEZONE
BEGIN:VEVENT
DTSTART;TZID=America/New_York:20270103T190000
DTEND;TZID=America/New_York:20270103T210000
DTSTAMP:20260420T212228
CREATED:20250430T173457Z
LAST-MODIFIED:20250430T173834Z
UID:10015293-1799002800-1799010000@coldspringchurch.com
SUMMARY:AA Meeting
DESCRIPTION:
URL:https://coldspringchurch.com/event/aa-meeting-101/2027-01-03/
LOCATION:Price Hall\, Cold Spring Presbyterian Church\, Cape May\, NJ\, United States\, 701 Spring Ln\, United States
GEO:38.966497;-74.928636
X-APPLE-STRUCTURED-LOCATION;VALUE=URI;X-ADDRESS=Price Hall Cold Spring Presbyterian Church Cape May NJ United States 701 Spring Ln United States;X-APPLE-RADIUS=500;X-TITLE=701 Spring Ln:geo:-74.928636,38.966497
END:VEVENT
BEGIN:VEVENT
DTSTART;TZID=America/New_York:20270104T160000
DTEND;TZID=America/New_York:20270104T170000
DTSTAMP:20260420T212228
CREATED:20250428T163500Z
LAST-MODIFIED:20250428T164222Z
UID:10014759-1799078400-1799082000@coldspringchurch.com
SUMMARY:AA Women's meeting
DESCRIPTION:
URL:https://coldspringchurch.com/event/aa-womens-meeting/2027-01-04/
LOCATION:Price Hall\, Cold Spring Presbyterian Church\, Cape May\, NJ\, United States\, 701 Spring Ln\, United States
GEO:38.966497;-74.928636
X-APPLE-STRUCTURED-LOCATION;VALUE=URI;X-ADDRESS=Price Hall Cold Spring Presbyterian Church Cape May NJ United States 701 Spring Ln United States;X-APPLE-RADIUS=500;X-TITLE=701 Spring Ln:geo:-74.928636,38.966497
END:VEVENT
BEGIN:VEVENT
DTSTART;TZID=America/New_York:20270105T170000
DTEND;TZID=America/New_York:20270105T180000
DTSTAMP:20260420T212228
CREATED:20250428T164026Z
LAST-MODIFIED:20250428T164355Z
UID:10014863-1799168400-1799172000@coldspringchurch.com
SUMMARY:AA Meeting
DESCRIPTION:
URL:https://coldspringchurch.com/event/aa-meeting-99/2027-01-05/
LOCATION:Price Hall\, Cold Spring Presbyterian Church\, Cape May\, NJ\, United States\, 701 Spring Ln\, United States
GEO:38.966497;-74.928636
X-APPLE-STRUCTURED-LOCATION;VALUE=URI;X-ADDRESS=Price Hall Cold Spring Presbyterian Church Cape May NJ United States 701 Spring Ln United States;X-APPLE-RADIUS=500;X-TITLE=701 Spring Ln:geo:-74.928636,38.966497
END:VEVENT
BEGIN:VEVENT
DTSTART;TZID=America/New_York:20270107T100000
DTEND;TZID=America/New_York:20270107T140000
DTSTAMP:20260420T212228
CREATED:20250428T170320Z
LAST-MODIFIED:20260324T154609Z
UID:10015397-1799316000-1799330400@coldspringchurch.com
SUMMARY:Easter Seals
DESCRIPTION:
URL:https://coldspringchurch.com/event/easter-seals/2027-01-07/
LOCATION:Price Hall\, Cold Spring Presbyterian Church\, Cape May\, NJ\, United States\, 701 Spring Ln\, United States
GEO:38.966497;-74.928636
X-APPLE-STRUCTURED-LOCATION;VALUE=URI;X-ADDRESS=Price Hall Cold Spring Presbyterian Church Cape May NJ United States 701 Spring Ln United States;X-APPLE-RADIUS=500;X-TITLE=701 Spring Ln:geo:-74.928636,38.966497
END:VEVENT
BEGIN:VEVENT
DTSTART;TZID=America/New_York:20270107T193000
DTEND;TZID=America/New_York:20270107T210000
DTSTAMP:20260420T212228
CREATED:20250428T164525Z
LAST-MODIFIED:20260324T160059Z
UID:10016029-1799350200-1799355600@coldspringchurch.com
SUMMARY:NA Meeting
DESCRIPTION:
URL:https://coldspringchurch.com/event/na-meeting/2027-01-07/
LOCATION:Price Hall\, Cold Spring Presbyterian Church\, Cape May\, NJ\, United States\, 701 Spring Ln\, United States
CATEGORIES:Events
GEO:38.966497;-74.928636
X-APPLE-STRUCTURED-LOCATION;VALUE=URI;X-ADDRESS=Price Hall Cold Spring Presbyterian Church Cape May NJ United States 701 Spring Ln United States;X-APPLE-RADIUS=500;X-TITLE=701 Spring Ln:geo:-74.928636,38.966497
END:VEVENT
BEGIN:VEVENT
DTSTART;TZID=America/New_York:20270108T170000
DTEND;TZID=America/New_York:20270108T180000
DTSTAMP:20260420T212228
CREATED:20250428T164629Z
LAST-MODIFIED:20250428T165010Z
UID:10015072-1799427600-1799431200@coldspringchurch.com
SUMMARY:AA Meeting
DESCRIPTION:
URL:https://coldspringchurch.com/event/aa-meeting-100/2027-01-08/
LOCATION:Price Hall\, Cold Spring Presbyterian Church\, Cape May\, NJ\, United States\, 701 Spring Ln\, United States
GEO:38.966497;-74.928636
X-APPLE-STRUCTURED-LOCATION;VALUE=URI;X-ADDRESS=Price Hall Cold Spring Presbyterian Church Cape May NJ United States 701 Spring Ln United States;X-APPLE-RADIUS=500;X-TITLE=701 Spring Ln:geo:-74.928636,38.966497
END:VEVENT
BEGIN:VEVENT
DTSTART;TZID=America/New_York:20270109T080000
DTEND;TZID=America/New_York:20270109T160000
DTSTAMP:20260420T212228
CREATED:20260326T152544Z
LAST-MODIFIED:20260326T152554Z
UID:10016345-1799481600-1799510400@coldspringchurch.com
SUMMARY:Coast Guard Boating Class
DESCRIPTION:
URL:https://coldspringchurch.com/event/coast-guard-boating-class/2027-01-09/
LOCATION:Price Hall\, Cold Spring Presbyterian Church\, Cape May\, NJ\, United States\, 701 Spring Ln\, United States
GEO:38.966497;-74.928636
X-APPLE-STRUCTURED-LOCATION;VALUE=URI;X-ADDRESS=Price Hall Cold Spring Presbyterian Church Cape May NJ United States 701 Spring Ln United States;X-APPLE-RADIUS=500;X-TITLE=701 Spring Ln:geo:-74.928636,38.966497
END:VEVENT
BEGIN:VEVENT
DTSTART;TZID=America/New_York:20270110T090000
DTEND;TZID=America/New_York:20270110T103000
DTSTAMP:20260420T212228
CREATED:20250428T162748Z
LAST-MODIFIED:20250428T163042Z
UID:10014654-1799571600-1799577000@coldspringchurch.com
SUMMARY:AA Meeting
DESCRIPTION:
URL:https://coldspringchurch.com/event/aa-meeting-97/2027-01-10/
LOCATION:Price Hall\, Cold Spring Presbyterian Church\, Cape May\, NJ\, United States\, 701 Spring Ln\, United States
GEO:38.966497;-74.928636
X-APPLE-STRUCTURED-LOCATION;VALUE=URI;X-ADDRESS=Price Hall Cold Spring Presbyterian Church Cape May NJ United States 701 Spring Ln United States;X-APPLE-RADIUS=500;X-TITLE=701 Spring Ln:geo:-74.928636,38.966497
END:VEVENT
BEGIN:VEVENT
DTSTART;TZID=America/New_York:20270110T103000
DTEND;TZID=America/New_York:20270110T113000
DTSTAMP:20260420T212228
CREATED:20260324T153155Z
LAST-MODIFIED:20260324T154229Z
UID:10015491-1799577000-1799580600@coldspringchurch.com
SUMMARY:Sunday Worship Service
DESCRIPTION:Our worship service is also available live on YouTube at www.coldspringworship.com
URL:https://coldspringchurch.com/event/sunday-worship-service/2027-01-10/
LOCATION:Cold Spring Presbyterian Church\, 780 Seashore Rd\, Cape May\, NJ 08204\, USA\, 401 Seashore Rd\, United States
GEO:39.006158;-74.888962
X-APPLE-STRUCTURED-LOCATION;VALUE=URI;X-ADDRESS=Cold Spring Presbyterian Church 780 Seashore Rd Cape May NJ 08204 USA 401 Seashore Rd United States;X-APPLE-RADIUS=500;X-TITLE=401 Seashore Rd:geo:-74.888962,39.006158
END:VEVENT
BEGIN:VEVENT
DTSTART;TZID=America/New_York:20270110T190000
DTEND;TZID=America/New_York:20270110T210000
DTSTAMP:20260420T212228
CREATED:20250430T173457Z
LAST-MODIFIED:20250430T173834Z
UID:10015294-1799607600-1799614800@coldspringchurch.com
SUMMARY:AA Meeting
DESCRIPTION:
URL:https://coldspringchurch.com/event/aa-meeting-101/2027-01-10/
LOCATION:Price Hall\, Cold Spring Presbyterian Church\, Cape May\, NJ\, United States\, 701 Spring Ln\, United States
GEO:38.966497;-74.928636
X-APPLE-STRUCTURED-LOCATION;VALUE=URI;X-ADDRESS=Price Hall Cold Spring Presbyterian Church Cape May NJ United States 701 Spring Ln United States;X-APPLE-RADIUS=500;X-TITLE=701 Spring Ln:geo:-74.928636,38.966497
END:VEVENT
BEGIN:VEVENT
DTSTART;TZID=America/New_York:20270111T160000
DTEND;TZID=America/New_York:20270111T170000
DTSTAMP:20260420T212228
CREATED:20250428T163500Z
LAST-MODIFIED:20250428T164222Z
UID:10014760-1799683200-1799686800@coldspringchurch.com
SUMMARY:AA Women's meeting
DESCRIPTION:
URL:https://coldspringchurch.com/event/aa-womens-meeting/2027-01-11/
LOCATION:Price Hall\, Cold Spring Presbyterian Church\, Cape May\, NJ\, United States\, 701 Spring Ln\, United States
GEO:38.966497;-74.928636
X-APPLE-STRUCTURED-LOCATION;VALUE=URI;X-ADDRESS=Price Hall Cold Spring Presbyterian Church Cape May NJ United States 701 Spring Ln United States;X-APPLE-RADIUS=500;X-TITLE=701 Spring Ln:geo:-74.928636,38.966497
END:VEVENT
BEGIN:VEVENT
DTSTART;TZID=America/New_York:20270112T170000
DTEND;TZID=America/New_York:20270112T180000
DTSTAMP:20260420T212228
CREATED:20250428T164026Z
LAST-MODIFIED:20250428T164355Z
UID:10014864-1799773200-1799776800@coldspringchurch.com
SUMMARY:AA Meeting
DESCRIPTION:
URL:https://coldspringchurch.com/event/aa-meeting-99/2027-01-12/
LOCATION:Price Hall\, Cold Spring Presbyterian Church\, Cape May\, NJ\, United States\, 701 Spring Ln\, United States
GEO:38.966497;-74.928636
X-APPLE-STRUCTURED-LOCATION;VALUE=URI;X-ADDRESS=Price Hall Cold Spring Presbyterian Church Cape May NJ United States 701 Spring Ln United States;X-APPLE-RADIUS=500;X-TITLE=701 Spring Ln:geo:-74.928636,38.966497
END:VEVENT
BEGIN:VEVENT
DTSTART;TZID=America/New_York:20270112T170000
DTEND;TZID=America/New_York:20270112T190000
DTSTAMP:20260420T212228
CREATED:20250428T170920Z
LAST-MODIFIED:20250428T170947Z
UID:10015141-1799773200-1799780400@coldspringchurch.com
SUMMARY:Session Meeting
DESCRIPTION:
URL:https://coldspringchurch.com/event/session-meeting-53/2027-01-12/
LOCATION:Taylor Room\, Price Hall\, Seashore and Academy Rd\, Seashore at Academy Roads\, Cold Spring\, NJ\, 08224
GEO:38.9735189;-74.9171684
X-APPLE-STRUCTURED-LOCATION;VALUE=URI;X-ADDRESS=Taylor Room Price Hall Seashore and Academy Rd Seashore at Academy Roads Cold Spring NJ 08224;X-APPLE-RADIUS=500;X-TITLE=Seashore at Academy Roads:geo:-74.9171684,38.9735189
END:VEVENT
BEGIN:VEVENT
DTSTART;TZID=America/New_York:20270114T100000
DTEND;TZID=America/New_York:20270114T140000
DTSTAMP:20260420T212228
CREATED:20250428T170320Z
LAST-MODIFIED:20260324T154609Z
UID:10015398-1799920800-1799935200@coldspringchurch.com
SUMMARY:Easter Seals
DESCRIPTION:
URL:https://coldspringchurch.com/event/easter-seals/2027-01-14/
LOCATION:Price Hall\, Cold Spring Presbyterian Church\, Cape May\, NJ\, United States\, 701 Spring Ln\, United States
GEO:38.966497;-74.928636
X-APPLE-STRUCTURED-LOCATION;VALUE=URI;X-ADDRESS=Price Hall Cold Spring Presbyterian Church Cape May NJ United States 701 Spring Ln United States;X-APPLE-RADIUS=500;X-TITLE=701 Spring Ln:geo:-74.928636,38.966497
END:VEVENT
BEGIN:VEVENT
DTSTART;TZID=America/New_York:20270114T193000
DTEND;TZID=America/New_York:20270114T210000
DTSTAMP:20260420T212228
CREATED:20250428T164525Z
LAST-MODIFIED:20260324T160059Z
UID:10016030-1799955000-1799960400@coldspringchurch.com
SUMMARY:NA Meeting
DESCRIPTION:
URL:https://coldspringchurch.com/event/na-meeting/2027-01-14/
LOCATION:Price Hall\, Cold Spring Presbyterian Church\, Cape May\, NJ\, United States\, 701 Spring Ln\, United States
CATEGORIES:Events
GEO:38.966497;-74.928636
X-APPLE-STRUCTURED-LOCATION;VALUE=URI;X-ADDRESS=Price Hall Cold Spring Presbyterian Church Cape May NJ United States 701 Spring Ln United States;X-APPLE-RADIUS=500;X-TITLE=701 Spring Ln:geo:-74.928636,38.966497
END:VEVENT
BEGIN:VEVENT
DTSTART;TZID=America/New_York:20270115T170000
DTEND;TZID=America/New_York:20270115T180000
DTSTAMP:20260420T212228
CREATED:20250428T164629Z
LAST-MODIFIED:20250428T165010Z
UID:10015073-1800032400-1800036000@coldspringchurch.com
SUMMARY:AA Meeting
DESCRIPTION:
URL:https://coldspringchurch.com/event/aa-meeting-100/2027-01-15/
LOCATION:Price Hall\, Cold Spring Presbyterian Church\, Cape May\, NJ\, United States\, 701 Spring Ln\, United States
GEO:38.966497;-74.928636
X-APPLE-STRUCTURED-LOCATION;VALUE=URI;X-ADDRESS=Price Hall Cold Spring Presbyterian Church Cape May NJ United States 701 Spring Ln United States;X-APPLE-RADIUS=500;X-TITLE=701 Spring Ln:geo:-74.928636,38.966497
END:VEVENT
BEGIN:VEVENT
DTSTART;TZID=America/New_York:20270117T090000
DTEND;TZID=America/New_York:20270117T103000
DTSTAMP:20260420T212228
CREATED:20250428T162748Z
LAST-MODIFIED:20250428T163042Z
UID:10014655-1800176400-1800181800@coldspringchurch.com
SUMMARY:AA Meeting
DESCRIPTION:
URL:https://coldspringchurch.com/event/aa-meeting-97/2027-01-17/
LOCATION:Price Hall\, Cold Spring Presbyterian Church\, Cape May\, NJ\, United States\, 701 Spring Ln\, United States
GEO:38.966497;-74.928636
X-APPLE-STRUCTURED-LOCATION;VALUE=URI;X-ADDRESS=Price Hall Cold Spring Presbyterian Church Cape May NJ United States 701 Spring Ln United States;X-APPLE-RADIUS=500;X-TITLE=701 Spring Ln:geo:-74.928636,38.966497
END:VEVENT
BEGIN:VEVENT
DTSTART;TZID=America/New_York:20270117T103000
DTEND;TZID=America/New_York:20270117T113000
DTSTAMP:20260420T212228
CREATED:20260324T153155Z
LAST-MODIFIED:20260324T154229Z
UID:10015492-1800181800-1800185400@coldspringchurch.com
SUMMARY:Sunday Worship Service
DESCRIPTION:Our worship service is also available live on YouTube at www.coldspringworship.com
URL:https://coldspringchurch.com/event/sunday-worship-service/2027-01-17/
LOCATION:Cold Spring Presbyterian Church\, 780 Seashore Rd\, Cape May\, NJ 08204\, USA\, 401 Seashore Rd\, United States
GEO:39.006158;-74.888962
X-APPLE-STRUCTURED-LOCATION;VALUE=URI;X-ADDRESS=Cold Spring Presbyterian Church 780 Seashore Rd Cape May NJ 08204 USA 401 Seashore Rd United States;X-APPLE-RADIUS=500;X-TITLE=401 Seashore Rd:geo:-74.888962,39.006158
END:VEVENT
BEGIN:VEVENT
DTSTART;TZID=America/New_York:20270117T190000
DTEND;TZID=America/New_York:20270117T210000
DTSTAMP:20260420T212228
CREATED:20250430T173457Z
LAST-MODIFIED:20250430T173834Z
UID:10015295-1800212400-1800219600@coldspringchurch.com
SUMMARY:AA Meeting
DESCRIPTION:
URL:https://coldspringchurch.com/event/aa-meeting-101/2027-01-17/
LOCATION:Price Hall\, Cold Spring Presbyterian Church\, Cape May\, NJ\, United States\, 701 Spring Ln\, United States
GEO:38.966497;-74.928636
X-APPLE-STRUCTURED-LOCATION;VALUE=URI;X-ADDRESS=Price Hall Cold Spring Presbyterian Church Cape May NJ United States 701 Spring Ln United States;X-APPLE-RADIUS=500;X-TITLE=701 Spring Ln:geo:-74.928636,38.966497
END:VEVENT
BEGIN:VEVENT
DTSTART;TZID=America/New_York:20270118T160000
DTEND;TZID=America/New_York:20270118T170000
DTSTAMP:20260420T212228
CREATED:20250428T163500Z
LAST-MODIFIED:20250428T164222Z
UID:10014761-1800288000-1800291600@coldspringchurch.com
SUMMARY:AA Women's meeting
DESCRIPTION:
URL:https://coldspringchurch.com/event/aa-womens-meeting/2027-01-18/
LOCATION:Price Hall\, Cold Spring Presbyterian Church\, Cape May\, NJ\, United States\, 701 Spring Ln\, United States
GEO:38.966497;-74.928636
X-APPLE-STRUCTURED-LOCATION;VALUE=URI;X-ADDRESS=Price Hall Cold Spring Presbyterian Church Cape May NJ United States 701 Spring Ln United States;X-APPLE-RADIUS=500;X-TITLE=701 Spring Ln:geo:-74.928636,38.966497
END:VEVENT
BEGIN:VEVENT
DTSTART;TZID=America/New_York:20270119T170000
DTEND;TZID=America/New_York:20270119T180000
DTSTAMP:20260420T212228
CREATED:20250428T164026Z
LAST-MODIFIED:20250428T164355Z
UID:10014865-1800378000-1800381600@coldspringchurch.com
SUMMARY:AA Meeting
DESCRIPTION:
URL:https://coldspringchurch.com/event/aa-meeting-99/2027-01-19/
LOCATION:Price Hall\, Cold Spring Presbyterian Church\, Cape May\, NJ\, United States\, 701 Spring Ln\, United States
GEO:38.966497;-74.928636
X-APPLE-STRUCTURED-LOCATION;VALUE=URI;X-ADDRESS=Price Hall Cold Spring Presbyterian Church Cape May NJ United States 701 Spring Ln United States;X-APPLE-RADIUS=500;X-TITLE=701 Spring Ln:geo:-74.928636,38.966497
END:VEVENT
BEGIN:VEVENT
DTSTART;TZID=America/New_York:20270121T100000
DTEND;TZID=America/New_York:20270121T140000
DTSTAMP:20260420T212228
CREATED:20250428T170320Z
LAST-MODIFIED:20260324T154609Z
UID:10015399-1800525600-1800540000@coldspringchurch.com
SUMMARY:Easter Seals
DESCRIPTION:
URL:https://coldspringchurch.com/event/easter-seals/2027-01-21/
LOCATION:Price Hall\, Cold Spring Presbyterian Church\, Cape May\, NJ\, United States\, 701 Spring Ln\, United States
GEO:38.966497;-74.928636
X-APPLE-STRUCTURED-LOCATION;VALUE=URI;X-ADDRESS=Price Hall Cold Spring Presbyterian Church Cape May NJ United States 701 Spring Ln United States;X-APPLE-RADIUS=500;X-TITLE=701 Spring Ln:geo:-74.928636,38.966497
END:VEVENT
BEGIN:VEVENT
DTSTART;TZID=America/New_York:20270121T193000
DTEND;TZID=America/New_York:20270121T210000
DTSTAMP:20260420T212228
CREATED:20250428T164525Z
LAST-MODIFIED:20260324T160059Z
UID:10016031-1800559800-1800565200@coldspringchurch.com
SUMMARY:NA Meeting
DESCRIPTION:
URL:https://coldspringchurch.com/event/na-meeting/2027-01-21/
LOCATION:Price Hall\, Cold Spring Presbyterian Church\, Cape May\, NJ\, United States\, 701 Spring Ln\, United States
CATEGORIES:Events
GEO:38.966497;-74.928636
X-APPLE-STRUCTURED-LOCATION;VALUE=URI;X-ADDRESS=Price Hall Cold Spring Presbyterian Church Cape May NJ United States 701 Spring Ln United States;X-APPLE-RADIUS=500;X-TITLE=701 Spring Ln:geo:-74.928636,38.966497
END:VEVENT
BEGIN:VEVENT
DTSTART;TZID=America/New_York:20270122T170000
DTEND;TZID=America/New_York:20270122T180000
DTSTAMP:20260420T212228
CREATED:20250428T164629Z
LAST-MODIFIED:20250428T165010Z
UID:10015074-1800637200-1800640800@coldspringchurch.com
SUMMARY:AA Meeting
DESCRIPTION:
URL:https://coldspringchurch.com/event/aa-meeting-100/2027-01-22/
LOCATION:Price Hall\, Cold Spring Presbyterian Church\, Cape May\, NJ\, United States\, 701 Spring Ln\, United States
GEO:38.966497;-74.928636
X-APPLE-STRUCTURED-LOCATION;VALUE=URI;X-ADDRESS=Price Hall Cold Spring Presbyterian Church Cape May NJ United States 701 Spring Ln United States;X-APPLE-RADIUS=500;X-TITLE=701 Spring Ln:geo:-74.928636,38.966497
END:VEVENT
BEGIN:VEVENT
DTSTART;TZID=America/New_York:20270124T090000
DTEND;TZID=America/New_York:20270124T103000
DTSTAMP:20260420T212228
CREATED:20250428T162748Z
LAST-MODIFIED:20250428T163042Z
UID:10014656-1800781200-1800786600@coldspringchurch.com
SUMMARY:AA Meeting
DESCRIPTION:
URL:https://coldspringchurch.com/event/aa-meeting-97/2027-01-24/
LOCATION:Price Hall\, Cold Spring Presbyterian Church\, Cape May\, NJ\, United States\, 701 Spring Ln\, United States
GEO:38.966497;-74.928636
X-APPLE-STRUCTURED-LOCATION;VALUE=URI;X-ADDRESS=Price Hall Cold Spring Presbyterian Church Cape May NJ United States 701 Spring Ln United States;X-APPLE-RADIUS=500;X-TITLE=701 Spring Ln:geo:-74.928636,38.966497
END:VEVENT
BEGIN:VEVENT
DTSTART;TZID=America/New_York:20270124T103000
DTEND;TZID=America/New_York:20270124T113000
DTSTAMP:20260420T212228
CREATED:20260324T153155Z
LAST-MODIFIED:20260324T154229Z
UID:10015493-1800786600-1800790200@coldspringchurch.com
SUMMARY:Sunday Worship Service
DESCRIPTION:Our worship service is also available live on YouTube at www.coldspringworship.com
URL:https://coldspringchurch.com/event/sunday-worship-service/2027-01-24/
LOCATION:Cold Spring Presbyterian Church\, 780 Seashore Rd\, Cape May\, NJ 08204\, USA\, 401 Seashore Rd\, United States
GEO:39.006158;-74.888962
X-APPLE-STRUCTURED-LOCATION;VALUE=URI;X-ADDRESS=Cold Spring Presbyterian Church 780 Seashore Rd Cape May NJ 08204 USA 401 Seashore Rd United States;X-APPLE-RADIUS=500;X-TITLE=401 Seashore Rd:geo:-74.888962,39.006158
END:VEVENT
BEGIN:VEVENT
DTSTART;TZID=America/New_York:20270124T190000
DTEND;TZID=America/New_York:20270124T210000
DTSTAMP:20260420T212228
CREATED:20250430T173457Z
LAST-MODIFIED:20250430T173834Z
UID:10015296-1800817200-1800824400@coldspringchurch.com
SUMMARY:AA Meeting
DESCRIPTION:
URL:https://coldspringchurch.com/event/aa-meeting-101/2027-01-24/
LOCATION:Price Hall\, Cold Spring Presbyterian Church\, Cape May\, NJ\, United States\, 701 Spring Ln\, United States
GEO:38.966497;-74.928636
X-APPLE-STRUCTURED-LOCATION;VALUE=URI;X-ADDRESS=Price Hall Cold Spring Presbyterian Church Cape May NJ United States 701 Spring Ln United States;X-APPLE-RADIUS=500;X-TITLE=701 Spring Ln:geo:-74.928636,38.966497
END:VEVENT
BEGIN:VEVENT
DTSTART;TZID=America/New_York:20270125T160000
DTEND;TZID=America/New_York:20270125T170000
DTSTAMP:20260420T212228
CREATED:20250428T163500Z
LAST-MODIFIED:20250428T164222Z
UID:10014762-1800892800-1800896400@coldspringchurch.com
SUMMARY:AA Women's meeting
DESCRIPTION:
URL:https://coldspringchurch.com/event/aa-womens-meeting/2027-01-25/
LOCATION:Price Hall\, Cold Spring Presbyterian Church\, Cape May\, NJ\, United States\, 701 Spring Ln\, United States
GEO:38.966497;-74.928636
X-APPLE-STRUCTURED-LOCATION;VALUE=URI;X-ADDRESS=Price Hall Cold Spring Presbyterian Church Cape May NJ United States 701 Spring Ln United States;X-APPLE-RADIUS=500;X-TITLE=701 Spring Ln:geo:-74.928636,38.966497
END:VEVENT
BEGIN:VEVENT
DTSTART;TZID=America/New_York:20270126T170000
DTEND;TZID=America/New_York:20270126T180000
DTSTAMP:20260420T212228
CREATED:20250428T164026Z
LAST-MODIFIED:20250428T164355Z
UID:10014866-1800982800-1800986400@coldspringchurch.com
SUMMARY:AA Meeting
DESCRIPTION:
URL:https://coldspringchurch.com/event/aa-meeting-99/2027-01-26/
LOCATION:Price Hall\, Cold Spring Presbyterian Church\, Cape May\, NJ\, United States\, 701 Spring Ln\, United States
GEO:38.966497;-74.928636
X-APPLE-STRUCTURED-LOCATION;VALUE=URI;X-ADDRESS=Price Hall Cold Spring Presbyterian Church Cape May NJ United States 701 Spring Ln United States;X-APPLE-RADIUS=500;X-TITLE=701 Spring Ln:geo:-74.928636,38.966497
END:VEVENT
BEGIN:VEVENT
DTSTART;TZID=America/New_York:20270128T100000
DTEND;TZID=America/New_York:20270128T140000
DTSTAMP:20260420T212228
CREATED:20250428T170320Z
LAST-MODIFIED:20260324T154609Z
UID:10015400-1801130400-1801144800@coldspringchurch.com
SUMMARY:Easter Seals
DESCRIPTION:
URL:https://coldspringchurch.com/event/easter-seals/2027-01-28/
LOCATION:Price Hall\, Cold Spring Presbyterian Church\, Cape May\, NJ\, United States\, 701 Spring Ln\, United States
GEO:38.966497;-74.928636
X-APPLE-STRUCTURED-LOCATION;VALUE=URI;X-ADDRESS=Price Hall Cold Spring Presbyterian Church Cape May NJ United States 701 Spring Ln United States;X-APPLE-RADIUS=500;X-TITLE=701 Spring Ln:geo:-74.928636,38.966497
END:VEVENT
END:VCALENDAR