BEGIN:VCALENDAR
VERSION:2.0
PRODID:-//Cold Spring Church - ECPv6.15.20//NONSGML v1.0//EN
CALSCALE:GREGORIAN
METHOD:PUBLISH
X-WR-CALNAME:Cold Spring Church
X-ORIGINAL-URL:https://coldspringchurch.com
X-WR-CALDESC:Events for Cold Spring Church
REFRESH-INTERVAL;VALUE=DURATION:PT1H
X-Robots-Tag:noindex
X-PUBLISHED-TTL:PT1H
BEGIN:VTIMEZONE
TZID:America/New_York
BEGIN:DAYLIGHT
TZOFFSETFROM:-0500
TZOFFSETTO:-0400
TZNAME:EDT
DTSTART:20190310T070000
END:DAYLIGHT
BEGIN:STANDARD
TZOFFSETFROM:-0400
TZOFFSETTO:-0500
TZNAME:EST
DTSTART:20191103T060000
END:STANDARD
BEGIN:DAYLIGHT
TZOFFSETFROM:-0500
TZOFFSETTO:-0400
TZNAME:EDT
DTSTART:20200308T070000
END:DAYLIGHT
BEGIN:STANDARD
TZOFFSETFROM:-0400
TZOFFSETTO:-0500
TZNAME:EST
DTSTART:20201101T060000
END:STANDARD
BEGIN:DAYLIGHT
TZOFFSETFROM:-0500
TZOFFSETTO:-0400
TZNAME:EDT
DTSTART:20210314T070000
END:DAYLIGHT
BEGIN:STANDARD
TZOFFSETFROM:-0400
TZOFFSETTO:-0500
TZNAME:EST
DTSTART:20211107T060000
END:STANDARD
END:VTIMEZONE
BEGIN:VEVENT
DTSTART;TZID=America/New_York:20200308T103000
DTEND;TZID=America/New_York:20200308T114500
DTSTAMP:20260421T062939
CREATED:20200101T193005Z
LAST-MODIFIED:20200103T194107Z
UID:10013240-1583663400-1583667900@coldspringchurch.com
SUMMARY:Worship Service+
DESCRIPTION:Hello. We’re glad you’re here! We believe that everyone deserves to experience God’s love in relevant and authentic ways. Come and experience energizing worship at 10:30 AM on Sundays in our beautiful\, historic\, red brick church. Inspiring message. Great music. An interactive time with kids. Our thriving faith community has begun a Brave New Year to put God’s love into action to help make greater Cape May a better place. We joyfully love and serve God and our neighbors in the name of Jesus Christ through the power of the Holy Spirit. Join us. \nYou may be younger\, or older; a long-time resident\, guest\, or seasonal visitor to Cape May; You may like being more dressed-up\, casual\, or prefer a ready-for-the-beach look at worship…  so stop by\, just the way you are! Connect in the way that fits your schedule: Worship. Special Holiday Events. Concerts. Dinners. We are here for you. \nAnd whatever your church background\, or no church experience at all\, you’re WELCOME! As it has for 306 years\, Cold Spring Church continues to follow Jesus Christ and serve this community. We’ve been getting ready to meet you. \nLet’s have a Brave New Year together. God loves you\, and so do we. See you Sunday!
URL:https://coldspringchurch.com/event/worship-service-32/2020-03-08/
LOCATION:Historic Red Brick Church\, 780 Seashore Road\, Cold Spring\, NJ\, 08204
CATEGORIES:Energizing Events,Events
ATTACH;FMTTYPE=image/jpeg:https://coldspringchurch.com/wp-content/uploads/2019/12/40B1F124-DAE3-4F29-954E-DF72D5A41A03.jpeg
GEO:38.9764245;-74.9158815
X-APPLE-STRUCTURED-LOCATION;VALUE=URI;X-ADDRESS=Historic Red Brick Church 780 Seashore Road Cold Spring NJ 08204;X-APPLE-RADIUS=500;X-TITLE=780 Seashore Road:geo:-74.9158815,38.9764245
END:VEVENT
BEGIN:VEVENT
DTSTART;TZID=America/New_York:20200308T150000
DTEND;TZID=America/New_York:20200308T150000
DTSTAMP:20260421T062939
CREATED:20190930T200117Z
LAST-MODIFIED:20200507T202910Z
UID:10013188-1583679600-1583679600@coldspringchurch.com
SUMMARY:2020 Cape Classical Artists Concert Series - A Season of Duos at Cold Spring Church
DESCRIPTION:Due to the COVID-19 Pandemic\, Cape Classical Artists has postponed the April 5th flute and harp duo concert with Teri Hislop and Stephanie Sussmeier\, and the May 10th Beethoven Birthday Celebration concert to 2021. Updates to the 2021 schedule will be posted here. \nThe Musikhaus Studio presents the 2020 Cape Classical Artists Concert Series – A Season of Duos in partnership with Cold Spring Presbyterian Church. All of this year’s five (5) concerts will be held in the historic Red Brick Church sanctuary. A reception in Price Hall will follow each concert. The community is invited to attend. There is no admission charge for the event and freewill donations are welcomed. \nDates for the 2020 Cape Classical Artists Concert Series. All concerts begin at 3:00 PM. \n\nJanuary 12\, 2020\nFebruary 9\, 2020\nMarch 8\, 2020\nCANCELLED- April 5\, 2020\nCANCELLED- May 10\, 2020\n\nThe mission at Musikhaus Studio is to offer the highest quality of musical training to the people of southern New Jersey. For more information about the studio\, please visit: www.musikhausnj.com . \nThe mission of Cold Spring Church is to improve the spiritual vitality and wellness of the congregation and community throughout the Cape May region through its worship\, activities\, events\, and other ministries. \nSince 1714\, Cold Spring Presbyterian Church has provided a welcoming place for spiritual refreshment as it respects\, loves\, and serves all its neighbors. We invite you to join us in our mission of transforming lives\, communities\, and the world! For more information\, please visit our About page!
URL:https://coldspringchurch.com/event/2020-musikhaus-winter-spring-concert-series-at-cold-spring-church/2020-03-08/
LOCATION:Historic Red Brick Church\, 780 Seashore Road\, Cold Spring\, NJ\, 08204
CATEGORIES:Energizing Events,Events
ATTACH;FMTTYPE=image/jpeg:https://coldspringchurch.com/wp-content/uploads/2019/09/647488E0-B955-4405-877F-5461765E1174.jpeg
ORGANIZER;CN="Musikhaus Studio":MAILTO:musikhausnj@gmail.com
GEO:38.9764245;-74.9158815
X-APPLE-STRUCTURED-LOCATION;VALUE=URI;X-ADDRESS=Historic Red Brick Church 780 Seashore Road Cold Spring NJ 08204;X-APPLE-RADIUS=500;X-TITLE=780 Seashore Road:geo:-74.9158815,38.9764245
END:VEVENT
END:VCALENDAR