BEGIN:VCALENDAR
VERSION:2.0
PRODID:-//Cold Spring Church - ECPv6.15.20//NONSGML v1.0//EN
CALSCALE:GREGORIAN
METHOD:PUBLISH
X-WR-CALNAME:Cold Spring Church
X-ORIGINAL-URL:https://coldspringchurch.com
X-WR-CALDESC:Events for Cold Spring Church
REFRESH-INTERVAL;VALUE=DURATION:PT1H
X-Robots-Tag:noindex
X-PUBLISHED-TTL:PT1H
BEGIN:VTIMEZONE
TZID:America/New_York
BEGIN:DAYLIGHT
TZOFFSETFROM:-0500
TZOFFSETTO:-0400
TZNAME:EDT
DTSTART:20230312T070000
END:DAYLIGHT
BEGIN:STANDARD
TZOFFSETFROM:-0400
TZOFFSETTO:-0500
TZNAME:EST
DTSTART:20231105T060000
END:STANDARD
BEGIN:DAYLIGHT
TZOFFSETFROM:-0500
TZOFFSETTO:-0400
TZNAME:EDT
DTSTART:20240310T070000
END:DAYLIGHT
BEGIN:STANDARD
TZOFFSETFROM:-0400
TZOFFSETTO:-0500
TZNAME:EST
DTSTART:20241103T060000
END:STANDARD
BEGIN:DAYLIGHT
TZOFFSETFROM:-0500
TZOFFSETTO:-0400
TZNAME:EDT
DTSTART:20250309T070000
END:DAYLIGHT
BEGIN:STANDARD
TZOFFSETFROM:-0400
TZOFFSETTO:-0500
TZNAME:EST
DTSTART:20251102T060000
END:STANDARD
END:VTIMEZONE
BEGIN:VEVENT
DTSTART;TZID=America/New_York:20241216T120000
DTEND;TZID=America/New_York:20241216T130000
DTSTAMP:20260421T142851
CREATED:20241006T160053Z
LAST-MODIFIED:20241111T155507Z
UID:10014564-1734350400-1734354000@coldspringchurch.com
SUMMARY:Join the Wreaths Across America Tradition at Cold Spring Church Cemetery
DESCRIPTION:Join the Wreaths Across America Tradition at Cold Spring Church Cemetery\nOur annual Wreaths Across America event is a nationwide ceremonial tribute to military veterans on Monday\, December 16\, 2024\, at noon in the Veterans’ Memorial of Cold Spring Church Cemetery. The ceremony is open to the entire community without cost at our beautiful\, flag-adorned Veterans Memorial along Academy Road. We are near the parking area on the south side of Cold Spring Church’s 200-acre campus. Look for the service flags at the center of the Veteran’s Memorial. \nCold Spring Church’s mission is to improve our community’s spiritual vitality and wellness through worship\, activities\, events\, and other ministries. For more than 309 years\, we have continued to energize spirits and transform lives.  Find out more. \nRemember\, Honor\, Teach\nYou may purchase a wreath using a purchase form available here or in the Red Brick Church Narthex on Sundays between 10:00 a.m. and 11:45 a.m.\, or the church office Monday through Friday\, 9:00 a.m. to 1:00 p.m. Wreaths are $17 each. Please make checks payable to Cold Spring Church\, memo WAA 2023\, and mail or drop off at our office located at 780 Seashore Rd.\, Cape May\, NJ 08204. \nProceeds will benefit our Cemetery. The last day to order wreaths is November 28\, 2023. \nThank you for joining us in this national tribute at Cold Spring Church!
URL:https://coldspringchurch.com/event/join-the-wreaths-across-america-tradition-at-cold-spring-church-cemetery/
CATEGORIES:Events
END:VEVENT
END:VCALENDAR