BEGIN:VCALENDAR
VERSION:2.0
PRODID:-//Cold Spring Church - ECPv6.15.20//NONSGML v1.0//EN
CALSCALE:GREGORIAN
METHOD:PUBLISH
X-ORIGINAL-URL:https://coldspringchurch.com
X-WR-CALDESC:Events for Cold Spring Church
REFRESH-INTERVAL;VALUE=DURATION:PT1H
X-Robots-Tag:noindex
X-PUBLISHED-TTL:PT1H
BEGIN:VTIMEZONE
TZID:America/New_York
BEGIN:DAYLIGHT
TZOFFSETFROM:-0500
TZOFFSETTO:-0400
TZNAME:EDT
DTSTART:20160313T070000
END:DAYLIGHT
BEGIN:STANDARD
TZOFFSETFROM:-0400
TZOFFSETTO:-0500
TZNAME:EST
DTSTART:20161106T060000
END:STANDARD
BEGIN:DAYLIGHT
TZOFFSETFROM:-0500
TZOFFSETTO:-0400
TZNAME:EDT
DTSTART:20170312T070000
END:DAYLIGHT
BEGIN:STANDARD
TZOFFSETFROM:-0400
TZOFFSETTO:-0500
TZNAME:EST
DTSTART:20171105T060000
END:STANDARD
BEGIN:DAYLIGHT
TZOFFSETFROM:-0500
TZOFFSETTO:-0400
TZNAME:EDT
DTSTART:20180311T070000
END:DAYLIGHT
BEGIN:STANDARD
TZOFFSETFROM:-0400
TZOFFSETTO:-0500
TZNAME:EST
DTSTART:20181104T060000
END:STANDARD
END:VTIMEZONE
BEGIN:VEVENT
DTSTART;TZID=America/New_York:20171027T080000
DTEND;TZID=America/New_York:20171211T170000
DTSTAMP:20260422T071108
CREATED:20171027T153746Z
LAST-MODIFIED:20190916T182404Z
UID:10012402-1509091200-1513011600@coldspringchurch.com
SUMMARY:Poinsettias Will Beautify Your Christmas. Order Today!
DESCRIPTION:Advent begins December 3rd! Last year our amazing Poinsettia Trees added warmth and beauty to our worship experience. Absolutely inspiring! Share Christmas blessings with others by purchasing a beautiful red poinsettia plant in memory of a loved one\, to honor someone\, or recognize a special event in your life! Each plant may be purchased for $11.00. Our two poinsettia trees will beautify the sanctuary during the Advent and Christmas season. A special printed recognition of all those honored and remembered will be included in our worship bulletin. \nCelebrate the Good News of Christmas by purchasing your Poinsettias online below. \nIf you prefer to order your plants in person\, look for inserts in the church bulletin. You may also purchase your Poinsettias at the November 4th Presbyterian Women’s Soup and Sandwich Luncheon\, Christmas Bazaar and Bake Sale and the Cold Spring Church Gift and Craft Fair November 18th. For more information\, please contact Kevin Beare.
URL:https://coldspringchurch.com/event/poinsettias-will-beautify-christmas-order-today/
ATTACH;FMTTYPE=image/jpeg:https://coldspringchurch.com/wp-content/uploads/2017/10/Poinsettia-plant-1.jpg
END:VEVENT
BEGIN:VEVENT
DTSTART;TZID=America/New_York:20171202T110000
DTEND;TZID=America/New_York:20171202T123000
DTSTAMP:20260422T071108
CREATED:20171031T183556Z
LAST-MODIFIED:20190916T182349Z
UID:10012404-1512212400-1512217800@coldspringchurch.com
SUMMARY:Gingerbread House Interactive Christmas Holiday Event
DESCRIPTION:Register today for our annual Gingerbread House interactive Christmas holiday community event for children!\nBuild Your Own\n“GINGERBREAD HOUSE”\nSaturday\, December 2\, 2017\n11:00 a.m. to 12:30 p.m.\nCold Spring Presbyterian Church\, Price Hall\n780 Seashore Road\, at the corner of Academy Road \nChildren ages 3 to 12 are invited to come and build their own “Gingerbread House.” A fee of $5.00 per family\nis requested to cover the cost of supplies. Refreshments will be provided by the Deacons at Cold Spring Church in addition to a surprise visit and gift from Santa! \nAn adult must accompany child! Registration is strongly recommended. Seating limited to the first\n50 children registered. \nRegister online below. Only $5 per family! Call 609-884-4065 for more information. \nCold Spring Church offers holiday events for the entire family. Join us Christmas Eve at 5:00 p.m. for our Annual Candlelight Christmas Eve service in our Worship Center. More information at www.coldspringchurch.com
URL:https://coldspringchurch.com/event/gingerbread-house-interactive-christmas-holiday-event/
LOCATION:Price Hall (corner of Seashore and Academy)\, 780 SEASHORE ROAD\, Cold Spring\, NJ\, 08204\, United States
CATEGORIES:Energizing Events
ATTACH;FMTTYPE=image/jpeg:https://coldspringchurch.com/wp-content/uploads/2017/10/9293097E-BF81-4735-9696-CE0FFC9AAE50.jpeg
GEO:38.9786332;-74.9180546
X-APPLE-STRUCTURED-LOCATION;VALUE=URI;X-ADDRESS=Price Hall (corner of Seashore and Academy) 780 SEASHORE ROAD Cold Spring NJ 08204 United States;X-APPLE-RADIUS=500;X-TITLE=780 SEASHORE ROAD:geo:-74.9180546,38.9786332
END:VEVENT
END:VCALENDAR