BEGIN:VCALENDAR
VERSION:2.0
PRODID:-//Cold Spring Church - ECPv6.15.20//NONSGML v1.0//EN
CALSCALE:GREGORIAN
METHOD:PUBLISH
X-WR-CALNAME:Cold Spring Church
X-ORIGINAL-URL:https://coldspringchurch.com
X-WR-CALDESC:Events for Cold Spring Church
REFRESH-INTERVAL;VALUE=DURATION:PT1H
X-Robots-Tag:noindex
X-PUBLISHED-TTL:PT1H
BEGIN:VTIMEZONE
TZID:America/New_York
BEGIN:DAYLIGHT
TZOFFSETFROM:-0500
TZOFFSETTO:-0400
TZNAME:EDT
DTSTART:20160313T070000
END:DAYLIGHT
BEGIN:STANDARD
TZOFFSETFROM:-0400
TZOFFSETTO:-0500
TZNAME:EST
DTSTART:20161106T060000
END:STANDARD
BEGIN:DAYLIGHT
TZOFFSETFROM:-0500
TZOFFSETTO:-0400
TZNAME:EDT
DTSTART:20170312T070000
END:DAYLIGHT
BEGIN:STANDARD
TZOFFSETFROM:-0400
TZOFFSETTO:-0500
TZNAME:EST
DTSTART:20171105T060000
END:STANDARD
BEGIN:DAYLIGHT
TZOFFSETFROM:-0500
TZOFFSETTO:-0400
TZNAME:EDT
DTSTART:20180311T070000
END:DAYLIGHT
BEGIN:STANDARD
TZOFFSETFROM:-0400
TZOFFSETTO:-0500
TZNAME:EST
DTSTART:20181104T060000
END:STANDARD
END:VTIMEZONE
BEGIN:VEVENT
DTSTART;TZID=America/New_York:20170730T103000
DTEND;TZID=America/New_York:20170730T113000
DTSTAMP:20260421T143505
CREATED:20170727T183525Z
LAST-MODIFIED:20190916T182424Z
UID:10011736-1501410600-1501414200@coldspringchurch.com
SUMMARY:What Is Having A Daring Faith Worth To You?
DESCRIPTION:Sure\, you want a faith that matters\, right? Even a daring faith. A faith that dares to truly believe that God invites you into a future of incredible possibilities! But\, here’s the thing. What is a daring faith worth to you? Or\, to put it another way\, how much will you give to have the daring faith you seek? Pastor Kevin will share Jesus’ stories about investment and risk from Matthew 13:31-33\, 44-52. What does mustard seeds\, hidden treasure\,  pearls\, and fishing have in common? Come to worship and find out. \nWhile you’re here\, remember to stay a few minutes to enjoy our homemade treats and refreshments at our Welcome Table. Yes\, its free. So is worship. And God’s love is\, too. But to have a daring faith may cost you something!
URL:https://coldspringchurch.com/event/what-is-having-a-daring-faith-worth-to-you/
LOCATION:Cold Spring Presbyterian Church\, Cape May\, NJ\, United States
CATEGORIES:Energizing Events,Events
ATTACH;FMTTYPE=image/jpeg:https://coldspringchurch.com/wp-content/uploads/2017/07/730.jpg
GEO:38.95928;-74.9274
END:VEVENT
BEGIN:VEVENT
DTSTART;TZID=America/New_York:20170730T113000
DTEND;TZID=America/New_York:20170730T123000
DTSTAMP:20260421T143505
CREATED:20170727T192503Z
LAST-MODIFIED:20190916T182426Z
UID:10011766-1501414200-1501417800@coldspringchurch.com
SUMMARY:After Worship Welcome Table
DESCRIPTION:Join us for refreshments and treats following our “come as you are” worship. We worship every Sunday at 10:30 and conclude about 11:30.
URL:https://coldspringchurch.com/event/after-worship-welcome-table/2017-07-30/
LOCATION:Cold Spring Presbyterian Church\, Cape May\, NJ\, United States
CATEGORIES:Events
GEO:38.95928;-74.9274
END:VEVENT
END:VCALENDAR